BEGIN:VCALENDAR
VERSION:2.0
PRODID:-//Chaplin School - ECPv6.15.20//NONSGML v1.0//EN
CALSCALE:GREGORIAN
METHOD:PUBLISH
X-ORIGINAL-URL:https://schools.prairiesouth.ca/sites/chaplin
X-WR-CALDESC:Events for Chaplin School
REFRESH-INTERVAL;VALUE=DURATION:PT1H
X-Robots-Tag:noindex
X-PUBLISHED-TTL:PT1H
BEGIN:VTIMEZONE
TZID:America/Regina
BEGIN:STANDARD
TZOFFSETFROM:-0600
TZOFFSETTO:-0600
TZNAME:CST
DTSTART:20210101T000000
END:STANDARD
END:VTIMEZONE
BEGIN:VEVENT
DTSTART;VALUE=DATE:20230208
DTEND;VALUE=DATE:20230209
DTSTAMP:20260421T230740
CREATED:20230131T212303Z
LAST-MODIFIED:20230131T212303Z
UID:3217-1675814400-1675900799@schools.prairiesouth.ca
SUMMARY:Hot lunch
DESCRIPTION:
URL:https://schools.prairiesouth.ca/sites/chaplin/event/hot-lunch-6/
END:VEVENT
BEGIN:VEVENT
DTSTART;VALUE=DATE:20230203
DTEND;VALUE=DATE:20230204
DTSTAMP:20260421T230740
CREATED:20230131T212244Z
LAST-MODIFIED:20230131T212244Z
UID:3215-1675382400-1675468799@schools.prairiesouth.ca
SUMMARY:Grilled cheese
DESCRIPTION:
URL:https://schools.prairiesouth.ca/sites/chaplin/event/grilled-cheese-13/
END:VEVENT
BEGIN:VEVENT
DTSTART;VALUE=DATE:20230131
DTEND;VALUE=DATE:20230201
DTSTAMP:20260421T230740
CREATED:20221220T195331Z
LAST-MODIFIED:20221220T195331Z
UID:3207-1675123200-1675209599@schools.prairiesouth.ca
SUMMARY:Grade 10-12 Report cards
DESCRIPTION:
URL:https://schools.prairiesouth.ca/sites/chaplin/event/grade-10-12-report-cards/
END:VEVENT
BEGIN:VEVENT
DTSTART;VALUE=DATE:20230130
DTEND;VALUE=DATE:20230131
DTSTAMP:20260421T230740
CREATED:20221220T195305Z
LAST-MODIFIED:20221220T195305Z
UID:3205-1675036800-1675123199@schools.prairiesouth.ca
SUMMARY:No School - Teacher prep day
DESCRIPTION:
URL:https://schools.prairiesouth.ca/sites/chaplin/event/no-school-teacher-prep-day/
END:VEVENT
BEGIN:VEVENT
DTSTART;VALUE=DATE:20230127
DTEND;VALUE=DATE:20230128
DTSTAMP:20260421T230740
CREATED:20221220T195424Z
LAST-MODIFIED:20221220T195424Z
UID:3209-1674777600-1674863999@schools.prairiesouth.ca
SUMMARY:Grilled cheese
DESCRIPTION:
URL:https://schools.prairiesouth.ca/sites/chaplin/event/grilled-cheese-12/
END:VEVENT
BEGIN:VEVENT
DTSTART;TZID=America/Regina:20230125T080000
DTEND;TZID=America/Regina:20230127T170000
DTSTAMP:20260421T230740
CREATED:20221220T195100Z
LAST-MODIFIED:20221220T195100Z
UID:3201-1674633600-1674838800@schools.prairiesouth.ca
SUMMARY:Finals
DESCRIPTION:
URL:https://schools.prairiesouth.ca/sites/chaplin/event/finals/
END:VEVENT
BEGIN:VEVENT
DTSTART;VALUE=DATE:20230113
DTEND;VALUE=DATE:20230114
DTSTAMP:20260421T230740
CREATED:20221220T194918Z
LAST-MODIFIED:20221220T195022Z
UID:3197-1673568000-1673654399@schools.prairiesouth.ca
SUMMARY:No school
DESCRIPTION:
URL:https://schools.prairiesouth.ca/sites/chaplin/event/no-school-22/
END:VEVENT
BEGIN:VEVENT
DTSTART;VALUE=DATE:20230112
DTEND;VALUE=DATE:20230113
DTSTAMP:20260421T230740
CREATED:20221220T195205Z
LAST-MODIFIED:20221220T195205Z
UID:3203-1673481600-1673567999@schools.prairiesouth.ca
SUMMARY:Grilled cheese
DESCRIPTION:
URL:https://schools.prairiesouth.ca/sites/chaplin/event/grilled-cheese-11/
END:VEVENT
BEGIN:VEVENT
DTSTART;TZID=America/Regina:20221222T080000
DTEND;TZID=America/Regina:20230104T170000
DTSTAMP:20260421T230740
CREATED:20221130T165851Z
LAST-MODIFIED:20221130T165851Z
UID:3182-1671696000-1672851600@schools.prairiesouth.ca
SUMMARY:No School
DESCRIPTION:
URL:https://schools.prairiesouth.ca/sites/chaplin/event/no-school-21/
END:VEVENT
BEGIN:VEVENT
DTSTART;VALUE=DATE:20221220
DTEND;VALUE=DATE:20221221
DTSTAMP:20260421T230740
CREATED:20221130T172809Z
LAST-MODIFIED:20221130T172809Z
UID:3188-1671494400-1671580799@schools.prairiesouth.ca
SUMMARY:Hot lunch - Dominos
DESCRIPTION:
URL:https://schools.prairiesouth.ca/sites/chaplin/event/hot-lunch-dominos/
END:VEVENT
BEGIN:VEVENT
DTSTART;TZID=America/Regina:20221215T170000
DTEND;TZID=America/Regina:20221215T170000
DTSTAMP:20260421T230740
CREATED:20221130T170101Z
LAST-MODIFIED:20221130T171613Z
UID:3186-1671123600-1671123600@schools.prairiesouth.ca
SUMMARY:SCC Christmas Banquet & Christmas Concert
DESCRIPTION:Meal at 5:00 p.m. concert to follow \nAdults $10 \nStudents $5 \nPre K Free \n  \nPurchase a meal by December 8.  Cash or cheque made payable to Chaplin School. Proceeds from the meal will go towards mental health activities for the students.
URL:https://schools.prairiesouth.ca/sites/chaplin/event/scc-christmas-banquet-christmas-concert/
END:VEVENT
BEGIN:VEVENT
DTSTART;VALUE=DATE:20221209
DTEND;VALUE=DATE:20221210
DTSTAMP:20260421T230740
CREATED:20221130T165829Z
LAST-MODIFIED:20221130T165829Z
UID:3180-1670544000-1670630399@schools.prairiesouth.ca
SUMMARY:No School
DESCRIPTION:
URL:https://schools.prairiesouth.ca/sites/chaplin/event/no-school-20/
END:VEVENT
BEGIN:VEVENT
DTSTART;TZID=America/Regina:20221206T190000
DTEND;TZID=America/Regina:20221206T190000
DTSTAMP:20260421T230740
CREATED:20221130T165919Z
LAST-MODIFIED:20221130T165919Z
UID:3184-1670353200-1670353200@schools.prairiesouth.ca
SUMMARY:SCC meeting
DESCRIPTION:
URL:https://schools.prairiesouth.ca/sites/chaplin/event/scc-meeting-3/
END:VEVENT
BEGIN:VEVENT
DTSTART;VALUE=DATE:20221202
DTEND;VALUE=DATE:20221203
DTSTAMP:20260421T230740
CREATED:20221130T165811Z
LAST-MODIFIED:20221130T165811Z
UID:3178-1669939200-1670025599@schools.prairiesouth.ca
SUMMARY:No School - Teacher Prep
DESCRIPTION:
URL:https://schools.prairiesouth.ca/sites/chaplin/event/no-school-teacher-prep-2/
END:VEVENT
BEGIN:VEVENT
DTSTART;VALUE=DATE:20221130
DTEND;VALUE=DATE:20221201
DTSTAMP:20260421T230740
CREATED:20220926T200503Z
LAST-MODIFIED:20220926T200503Z
UID:3102-1669766400-1669852799@schools.prairiesouth.ca
SUMMARY:Hot lunch
DESCRIPTION:
URL:https://schools.prairiesouth.ca/sites/chaplin/event/hot-lunch-4/
END:VEVENT
BEGIN:VEVENT
DTSTART;VALUE=DATE:20221125
DTEND;VALUE=DATE:20221126
DTSTAMP:20260421T230740
CREATED:20220926T200356Z
LAST-MODIFIED:20220926T200356Z
UID:3096-1669334400-1669420799@schools.prairiesouth.ca
SUMMARY:No school
DESCRIPTION:
URL:https://schools.prairiesouth.ca/sites/chaplin/event/no-school-15/
END:VEVENT
BEGIN:VEVENT
DTSTART;TZID=America/Regina:20221118T080000
DTEND;TZID=America/Regina:20221118T170000
DTSTAMP:20260421T230740
CREATED:20220926T200326Z
LAST-MODIFIED:20220926T200326Z
UID:3094-1668758400-1668790800@schools.prairiesouth.ca
SUMMARY:No school
DESCRIPTION:
URL:https://schools.prairiesouth.ca/sites/chaplin/event/no-school-14/
END:VEVENT
BEGIN:VEVENT
DTSTART;TZID=America/Regina:20221117T173000
DTEND;TZID=America/Regina:20221117T193000
DTSTAMP:20260421T230740
CREATED:20221031T194712Z
LAST-MODIFIED:20221031T194712Z
UID:3163-1668706200-1668713400@schools.prairiesouth.ca
SUMMARY:SCC Meeting
DESCRIPTION:
URL:https://schools.prairiesouth.ca/sites/chaplin/event/scc-meeting-2/
END:VEVENT
BEGIN:VEVENT
DTSTART;VALUE=DATE:20221117
DTEND;VALUE=DATE:20221118
DTSTAMP:20260421T230740
CREATED:20220926T200447Z
LAST-MODIFIED:20220926T200447Z
UID:3100-1668643200-1668729599@schools.prairiesouth.ca
SUMMARY:Grilled cheese
DESCRIPTION:
URL:https://schools.prairiesouth.ca/sites/chaplin/event/grilled-cheese-8/
END:VEVENT
BEGIN:VEVENT
DTSTART;TZID=America/Regina:20221116T160000
DTEND;TZID=America/Regina:20221116T180000
DTSTAMP:20260421T230740
CREATED:20221031T194440Z
LAST-MODIFIED:20221031T194521Z
UID:3160-1668614400-1668621600@schools.prairiesouth.ca
SUMMARY:Student Led Conferences
DESCRIPTION:
URL:https://schools.prairiesouth.ca/sites/chaplin/event/student-led-conferences-2/
END:VEVENT
BEGIN:VEVENT
DTSTART;TZID=America/Regina:20221115T160000
DTEND;TZID=America/Regina:20221115T190000
DTSTAMP:20260421T230740
CREATED:20221031T194414Z
LAST-MODIFIED:20221031T194549Z
UID:3158-1668528000-1668538800@schools.prairiesouth.ca
SUMMARY:Student Led Conferences
DESCRIPTION:
URL:https://schools.prairiesouth.ca/sites/chaplin/event/student-led-conferences/
END:VEVENT
BEGIN:VEVENT
DTSTART;TZID=America/Regina:20221115T160000
DTEND;TZID=America/Regina:20221115T190000
DTSTAMP:20260421T230740
CREATED:20221031T194244Z
LAST-MODIFIED:20221031T194244Z
UID:3153-1668528000-1668538800@schools.prairiesouth.ca
SUMMARY:Book Fair
DESCRIPTION:
URL:https://schools.prairiesouth.ca/sites/chaplin/event/book-fair/
END:VEVENT
BEGIN:VEVENT
DTSTART;VALUE=DATE:20221114
DTEND;VALUE=DATE:20221115
DTSTAMP:20260421T230740
CREATED:20220926T200530Z
LAST-MODIFIED:20220926T200530Z
UID:3104-1668384000-1668470399@schools.prairiesouth.ca
SUMMARY:Report cards
DESCRIPTION:
URL:https://schools.prairiesouth.ca/sites/chaplin/event/report-cards/
END:VEVENT
BEGIN:VEVENT
DTSTART;VALUE=DATE:20221110
DTEND;VALUE=DATE:20221112
DTSTAMP:20260421T230740
CREATED:20220926T200313Z
LAST-MODIFIED:20220926T200313Z
UID:3092-1668038400-1668211199@schools.prairiesouth.ca
SUMMARY:No school
DESCRIPTION:
URL:https://schools.prairiesouth.ca/sites/chaplin/event/no-school-13/
END:VEVENT
BEGIN:VEVENT
DTSTART;TZID=America/Regina:20221109T104500
DTEND;TZID=America/Regina:20221109T120000
DTSTAMP:20260421T230740
CREATED:20221101T153518Z
LAST-MODIFIED:20221101T153518Z
UID:3171-1667990700-1667995200@schools.prairiesouth.ca
SUMMARY:Remembrance Day Service
DESCRIPTION:
URL:https://schools.prairiesouth.ca/sites/chaplin/event/remembrance-day-service/
END:VEVENT
BEGIN:VEVENT
DTSTART;VALUE=DATE:20221104
DTEND;VALUE=DATE:20221105
DTSTAMP:20260421T230740
CREATED:20220926T200428Z
LAST-MODIFIED:20220926T200428Z
UID:3098-1667520000-1667606399@schools.prairiesouth.ca
SUMMARY:Grilled cheese
DESCRIPTION:
URL:https://schools.prairiesouth.ca/sites/chaplin/event/grilled-cheese-7/
END:VEVENT
BEGIN:VEVENT
DTSTART;VALUE=DATE:20221031
DTEND;VALUE=DATE:20221101
DTSTAMP:20260421T230740
CREATED:20220930T203524Z
LAST-MODIFIED:20220930T203524Z
UID:3122-1667174400-1667260799@schools.prairiesouth.ca
SUMMARY:Halloween activities
DESCRIPTION:
URL:https://schools.prairiesouth.ca/sites/chaplin/event/halloween-activities/
END:VEVENT
BEGIN:VEVENT
DTSTART;VALUE=DATE:20221028
DTEND;VALUE=DATE:20221029
DTSTAMP:20260421T230740
CREATED:20220930T203249Z
LAST-MODIFIED:20220930T203249Z
UID:3120-1666915200-1667001599@schools.prairiesouth.ca
SUMMARY:No school
DESCRIPTION:
URL:https://schools.prairiesouth.ca/sites/chaplin/event/no-school-19/
END:VEVENT
BEGIN:VEVENT
DTSTART;VALUE=DATE:20221027
DTEND;VALUE=DATE:20221028
DTSTAMP:20260421T230740
CREATED:20220930T203647Z
LAST-MODIFIED:20220930T203647Z
UID:3130-1666828800-1666915199@schools.prairiesouth.ca
SUMMARY:Grilled cheese
DESCRIPTION:
URL:https://schools.prairiesouth.ca/sites/chaplin/event/grilled-cheese-10/
END:VEVENT
BEGIN:VEVENT
DTSTART;VALUE=DATE:20221027
DTEND;VALUE=DATE:20221028
DTSTAMP:20260421T230740
CREATED:20220913T164619Z
LAST-MODIFIED:20220913T164619Z
UID:3083-1666828800-1666915199@schools.prairiesouth.ca
SUMMARY:Vball playoffs Rouleau
DESCRIPTION:
URL:https://schools.prairiesouth.ca/sites/chaplin/event/vball-playoffs-rouleau/
END:VEVENT
END:VCALENDAR