BEGIN:VCALENDAR
VERSION:2.0
PRODID:-//Chaplin School - ECPv6.15.20//NONSGML v1.0//EN
CALSCALE:GREGORIAN
METHOD:PUBLISH
X-ORIGINAL-URL:https://schools.prairiesouth.ca/sites/chaplin
X-WR-CALDESC:Events for Chaplin School
REFRESH-INTERVAL;VALUE=DURATION:PT1H
X-Robots-Tag:noindex
X-PUBLISHED-TTL:PT1H
BEGIN:VTIMEZONE
TZID:America/Regina
BEGIN:STANDARD
TZOFFSETFROM:-0600
TZOFFSETTO:-0600
TZNAME:CST
DTSTART:20230101T000000
END:STANDARD
END:VTIMEZONE
BEGIN:VEVENT
DTSTART;VALUE=DATE:20240503
DTEND;VALUE=DATE:20240504
DTSTAMP:20260421T043033
CREATED:20240119T161545Z
LAST-MODIFIED:20240119T161545Z
UID:3559-1714694400-1714780799@schools.prairiesouth.ca
SUMMARY:No school
DESCRIPTION:
URL:https://schools.prairiesouth.ca/sites/chaplin/event/no-school-50/
END:VEVENT
BEGIN:VEVENT
DTSTART;VALUE=DATE:20240426
DTEND;VALUE=DATE:20240427
DTSTAMP:20260421T043033
CREATED:20240119T161524Z
LAST-MODIFIED:20240119T161524Z
UID:3557-1714089600-1714175999@schools.prairiesouth.ca
SUMMARY:No school
DESCRIPTION:
URL:https://schools.prairiesouth.ca/sites/chaplin/event/no-school-49/
END:VEVENT
BEGIN:VEVENT
DTSTART;VALUE=DATE:20240425
DTEND;VALUE=DATE:20240426
DTSTAMP:20260421T043033
CREATED:20240328T200440Z
LAST-MODIFIED:20240328T200440Z
UID:3620-1714003200-1714089599@schools.prairiesouth.ca
SUMMARY:Grilled cheese
DESCRIPTION:
URL:https://schools.prairiesouth.ca/sites/chaplin/event/grilled-cheese-34/
END:VEVENT
BEGIN:VEVENT
DTSTART;VALUE=DATE:20240419
DTEND;VALUE=DATE:20240420
DTSTAMP:20260421T043033
CREATED:20240328T200420Z
LAST-MODIFIED:20240328T200420Z
UID:3618-1713484800-1713571199@schools.prairiesouth.ca
SUMMARY:Dance party
DESCRIPTION:
URL:https://schools.prairiesouth.ca/sites/chaplin/event/dance-party/
END:VEVENT
BEGIN:VEVENT
DTSTART;VALUE=DATE:20240418
DTEND;VALUE=DATE:20240419
DTSTAMP:20260421T043033
CREATED:20240328T200407Z
LAST-MODIFIED:20240328T200407Z
UID:3616-1713398400-1713484799@schools.prairiesouth.ca
SUMMARY:Dress like a leader
DESCRIPTION:
URL:https://schools.prairiesouth.ca/sites/chaplin/event/dress-like-a-leader/
END:VEVENT
BEGIN:VEVENT
DTSTART;TZID=America/Regina:20240417T160000
DTEND;TZID=America/Regina:20240417T180000
DTSTAMP:20260421T043033
CREATED:20240328T200344Z
LAST-MODIFIED:20240328T200344Z
UID:3614-1713369600-1713376800@schools.prairiesouth.ca
SUMMARY:SLC
DESCRIPTION:
URL:https://schools.prairiesouth.ca/sites/chaplin/event/slc-4/
END:VEVENT
BEGIN:VEVENT
DTSTART;VALUE=DATE:20240417
DTEND;VALUE=DATE:20240418
DTSTAMP:20260421T043033
CREATED:20240328T200305Z
LAST-MODIFIED:20240328T200305Z
UID:3612-1713312000-1713398399@schools.prairiesouth.ca
SUMMARY:Sports jersey day
DESCRIPTION:
URL:https://schools.prairiesouth.ca/sites/chaplin/event/sports-jersey-day/
END:VEVENT
BEGIN:VEVENT
DTSTART;VALUE=DATE:20240417
DTEND;VALUE=DATE:20240418
DTSTAMP:20260421T043033
CREATED:20240328T200245Z
LAST-MODIFIED:20240328T200245Z
UID:3610-1713312000-1713398399@schools.prairiesouth.ca
SUMMARY:Hot lunch
DESCRIPTION:
URL:https://schools.prairiesouth.ca/sites/chaplin/event/hot-lunch-15/
END:VEVENT
BEGIN:VEVENT
DTSTART;TZID=America/Regina:20240416T160000
DTEND;TZID=America/Regina:20240416T190000
DTSTAMP:20260421T043033
CREATED:20240328T200205Z
LAST-MODIFIED:20240328T200205Z
UID:3606-1713283200-1713294000@schools.prairiesouth.ca
SUMMARY:SLC
DESCRIPTION:
URL:https://schools.prairiesouth.ca/sites/chaplin/event/slc-3/
END:VEVENT
BEGIN:VEVENT
DTSTART;VALUE=DATE:20240416
DTEND;VALUE=DATE:20240417
DTSTAMP:20260421T043033
CREATED:20240328T200223Z
LAST-MODIFIED:20240328T200223Z
UID:3608-1713225600-1713311999@schools.prairiesouth.ca
SUMMARY:Dress in pastels
DESCRIPTION:
URL:https://schools.prairiesouth.ca/sites/chaplin/event/dress-in-pastels/
END:VEVENT
BEGIN:VEVENT
DTSTART;VALUE=DATE:20240415
DTEND;VALUE=DATE:20240416
DTSTAMP:20260421T043033
CREATED:20240328T200124Z
LAST-MODIFIED:20240328T200124Z
UID:3604-1713139200-1713225599@schools.prairiesouth.ca
SUMMARY:Funky hat day
DESCRIPTION:
URL:https://schools.prairiesouth.ca/sites/chaplin/event/funky-hat-day/
END:VEVENT
BEGIN:VEVENT
DTSTART;VALUE=DATE:20240415
DTEND;VALUE=DATE:20240416
DTSTAMP:20260421T043033
CREATED:20240328T200100Z
LAST-MODIFIED:20240328T200100Z
UID:3602-1713139200-1713225599@schools.prairiesouth.ca
SUMMARY:Report cards
DESCRIPTION:
URL:https://schools.prairiesouth.ca/sites/chaplin/event/report-cards-5/
END:VEVENT
BEGIN:VEVENT
DTSTART;VALUE=DATE:20240412
DTEND;VALUE=DATE:20240413
DTSTAMP:20260421T043033
CREATED:20240328T200000Z
LAST-MODIFIED:20240328T200000Z
UID:3600-1712880000-1712966399@schools.prairiesouth.ca
SUMMARY:Grilled cheese
DESCRIPTION:
URL:https://schools.prairiesouth.ca/sites/chaplin/event/grilled-cheese-33/
END:VEVENT
BEGIN:VEVENT
DTSTART;VALUE=DATE:20240401
DTEND;VALUE=DATE:20240408
DTSTAMP:20260421T043033
CREATED:20240119T161339Z
LAST-MODIFIED:20240119T161339Z
UID:3555-1711929600-1712534399@schools.prairiesouth.ca
SUMMARY:No school
DESCRIPTION:
URL:https://schools.prairiesouth.ca/sites/chaplin/event/no-school-48/
END:VEVENT
BEGIN:VEVENT
DTSTART;VALUE=DATE:20240329
DTEND;VALUE=DATE:20240330
DTSTAMP:20260421T043033
CREATED:20240119T161300Z
LAST-MODIFIED:20240119T161300Z
UID:3553-1711670400-1711756799@schools.prairiesouth.ca
SUMMARY:No school
DESCRIPTION:
URL:https://schools.prairiesouth.ca/sites/chaplin/event/no-school-47/
END:VEVENT
BEGIN:VEVENT
DTSTART;VALUE=DATE:20240322
DTEND;VALUE=DATE:20240323
DTSTAMP:20260421T043033
CREATED:20240119T161246Z
LAST-MODIFIED:20240119T161246Z
UID:3551-1711065600-1711151999@schools.prairiesouth.ca
SUMMARY:No school
DESCRIPTION:
URL:https://schools.prairiesouth.ca/sites/chaplin/event/no-school-46/
END:VEVENT
BEGIN:VEVENT
DTSTART;VALUE=DATE:20240321
DTEND;VALUE=DATE:20240322
DTSTAMP:20260421T043033
CREATED:20240228T212200Z
LAST-MODIFIED:20240228T212200Z
UID:3595-1710979200-1711065599@schools.prairiesouth.ca
SUMMARY:Dress in western clothes
DESCRIPTION:
URL:https://schools.prairiesouth.ca/sites/chaplin/event/dress-in-western-clothes/
END:VEVENT
BEGIN:VEVENT
DTSTART;VALUE=DATE:20240321
DTEND;VALUE=DATE:20240322
DTSTAMP:20260421T043033
CREATED:20240228T211951Z
LAST-MODIFIED:20240228T211951Z
UID:3587-1710979200-1711065599@schools.prairiesouth.ca
SUMMARY:Grilled cheese
DESCRIPTION:
URL:https://schools.prairiesouth.ca/sites/chaplin/event/grilled-cheese-32/
END:VEVENT
BEGIN:VEVENT
DTSTART;VALUE=DATE:20240315
DTEND;VALUE=DATE:20240316
DTSTAMP:20260421T043033
CREATED:20240119T161233Z
LAST-MODIFIED:20240119T161233Z
UID:3549-1710460800-1710547199@schools.prairiesouth.ca
SUMMARY:No school
DESCRIPTION:
URL:https://schools.prairiesouth.ca/sites/chaplin/event/no-school-45/
END:VEVENT
BEGIN:VEVENT
DTSTART;VALUE=DATE:20240314
DTEND;VALUE=DATE:20240315
DTSTAMP:20260421T043033
CREATED:20240228T212134Z
LAST-MODIFIED:20240228T212134Z
UID:3593-1710374400-1710460799@schools.prairiesouth.ca
SUMMARY:Dress like a leprechaun or green/gold
DESCRIPTION:
URL:https://schools.prairiesouth.ca/sites/chaplin/event/dress-like-a-leprechaun-or-green-gold/
END:VEVENT
BEGIN:VEVENT
DTSTART;VALUE=DATE:20240312
DTEND;VALUE=DATE:20240313
DTSTAMP:20260421T043033
CREATED:20240228T212011Z
LAST-MODIFIED:20240228T212011Z
UID:3589-1710201600-1710287999@schools.prairiesouth.ca
SUMMARY:Hot lunch
DESCRIPTION:
URL:https://schools.prairiesouth.ca/sites/chaplin/event/hot-lunch-14/
END:VEVENT
BEGIN:VEVENT
DTSTART;VALUE=DATE:20240308
DTEND;VALUE=DATE:20240309
DTSTAMP:20260421T043033
CREATED:20240119T161205Z
LAST-MODIFIED:20240119T161216Z
UID:3546-1709856000-1709942399@schools.prairiesouth.ca
SUMMARY:No school - Teacher prep
DESCRIPTION:
URL:https://schools.prairiesouth.ca/sites/chaplin/event/no-school-44/
END:VEVENT
BEGIN:VEVENT
DTSTART;VALUE=DATE:20240307
DTEND;VALUE=DATE:20240308
DTSTAMP:20260421T043033
CREATED:20240228T212104Z
LAST-MODIFIED:20240228T212104Z
UID:3591-1709769600-1709855999@schools.prairiesouth.ca
SUMMARY:Dress like 100 year old
DESCRIPTION:
URL:https://schools.prairiesouth.ca/sites/chaplin/event/dress-like-100-year-old/
END:VEVENT
BEGIN:VEVENT
DTSTART;VALUE=DATE:20240307
DTEND;VALUE=DATE:20240308
DTSTAMP:20260421T043033
CREATED:20240228T211927Z
LAST-MODIFIED:20240228T211927Z
UID:3583-1709769600-1709855999@schools.prairiesouth.ca
SUMMARY:Grilled cheese
DESCRIPTION:
URL:https://schools.prairiesouth.ca/sites/chaplin/event/grilled-cheese-31/
END:VEVENT
BEGIN:VEVENT
DTSTART;VALUE=DATE:20240301
DTEND;VALUE=DATE:20240302
DTSTAMP:20260421T043033
CREATED:20240228T211906Z
LAST-MODIFIED:20240228T211906Z
UID:3581-1709251200-1709337599@schools.prairiesouth.ca
SUMMARY:Dress as Dr. Seuss character
DESCRIPTION:
URL:https://schools.prairiesouth.ca/sites/chaplin/event/dress-as-dr-seuss-character/
END:VEVENT
BEGIN:VEVENT
DTSTART;VALUE=DATE:20240228
DTEND;VALUE=DATE:20240229
DTSTAMP:20260421T043033
CREATED:20240119T160700Z
LAST-MODIFIED:20240205T204159Z
UID:3540-1709078400-1709164799@schools.prairiesouth.ca
SUMMARY:Hot lunch
DESCRIPTION:
URL:https://schools.prairiesouth.ca/sites/chaplin/event/hot-lunch-13/
END:VEVENT
BEGIN:VEVENT
DTSTART;VALUE=DATE:20240216
DTEND;VALUE=DATE:20240226
DTSTAMP:20260421T043033
CREATED:20240119T161142Z
LAST-MODIFIED:20240119T161142Z
UID:3544-1708041600-1708905599@schools.prairiesouth.ca
SUMMARY:No school
DESCRIPTION:
URL:https://schools.prairiesouth.ca/sites/chaplin/event/no-school-43/
END:VEVENT
BEGIN:VEVENT
DTSTART;VALUE=DATE:20240215
DTEND;VALUE=DATE:20240216
DTSTAMP:20260421T043033
CREATED:20240119T160807Z
LAST-MODIFIED:20240119T160807Z
UID:3542-1707955200-1708041599@schools.prairiesouth.ca
SUMMARY:Grilled cheese
DESCRIPTION:
URL:https://schools.prairiesouth.ca/sites/chaplin/event/grilled-cheese-30/
END:VEVENT
BEGIN:VEVENT
DTSTART;VALUE=DATE:20240202
DTEND;VALUE=DATE:20240203
DTSTAMP:20260421T043033
CREATED:20240119T155425Z
LAST-MODIFIED:20240119T155425Z
UID:3536-1706832000-1706918399@schools.prairiesouth.ca
SUMMARY:Grilled cheese
DESCRIPTION:
URL:https://schools.prairiesouth.ca/sites/chaplin/event/grilled-cheese-29/
END:VEVENT
BEGIN:VEVENT
DTSTART;VALUE=DATE:20240201
DTEND;VALUE=DATE:20240202
DTSTAMP:20260421T043033
CREATED:20240119T155357Z
LAST-MODIFIED:20240119T155357Z
UID:3534-1706745600-1706831999@schools.prairiesouth.ca
SUMMARY:Report cards
DESCRIPTION:
URL:https://schools.prairiesouth.ca/sites/chaplin/event/report-cards-4/
END:VEVENT
END:VCALENDAR