BEGIN:VCALENDAR
VERSION:2.0
PRODID:-//Chaplin School - ECPv6.15.20//NONSGML v1.0//EN
CALSCALE:GREGORIAN
METHOD:PUBLISH
X-WR-CALNAME:Chaplin School
X-ORIGINAL-URL:https://schools.prairiesouth.ca/sites/chaplin
X-WR-CALDESC:Events for Chaplin School
REFRESH-INTERVAL;VALUE=DURATION:PT1H
X-Robots-Tag:noindex
X-PUBLISHED-TTL:PT1H
BEGIN:VTIMEZONE
TZID:America/Regina
BEGIN:STANDARD
TZOFFSETFROM:-0600
TZOFFSETTO:-0600
TZNAME:CST
DTSTART:20220101T000000
END:STANDARD
END:VTIMEZONE
BEGIN:VEVENT
DTSTART;VALUE=DATE:20231110
DTEND;VALUE=DATE:20231111
DTSTAMP:20260421T112155
CREATED:20231024T162027Z
LAST-MODIFIED:20231024T162027Z
UID:3466-1699574400-1699660799@schools.prairiesouth.ca
SUMMARY:No school - teacher prep
DESCRIPTION:
URL:https://schools.prairiesouth.ca/sites/chaplin/event/no-school-teacher-prep-5/
END:VEVENT
BEGIN:VEVENT
DTSTART;TZID=America/Regina:20231109T122000
DTEND;TZID=America/Regina:20231109T130000
DTSTAMP:20260421T112155
CREATED:20231030T192756Z
LAST-MODIFIED:20231030T192756Z
UID:3487-1699532400-1699534800@schools.prairiesouth.ca
SUMMARY:Grilled cheese
DESCRIPTION:
URL:https://schools.prairiesouth.ca/sites/chaplin/event/grilled-cheese-24/
END:VEVENT
BEGIN:VEVENT
DTSTART;TZID=America/Regina:20231109T104500
DTEND;TZID=America/Regina:20231109T114500
DTSTAMP:20260421T112155
CREATED:20231024T163644Z
LAST-MODIFIED:20231024T165903Z
UID:3474-1699526700-1699530300@schools.prairiesouth.ca
SUMMARY:Remembrance Day Service
DESCRIPTION:
URL:https://schools.prairiesouth.ca/sites/chaplin/event/remembrance-day/
END:VEVENT
BEGIN:VEVENT
DTSTART;VALUE=DATE:20231106
DTEND;VALUE=DATE:20231107
DTSTAMP:20260421T112155
CREATED:20231031T160916Z
LAST-MODIFIED:20231031T160916Z
UID:3493-1699228800-1699315199@schools.prairiesouth.ca
SUMMARY:Ogie's Perogies orders due
DESCRIPTION:
URL:https://schools.prairiesouth.ca/sites/chaplin/event/ogies-perogies-orders-due/
END:VEVENT
BEGIN:VEVENT
DTSTART;TZID=America/Regina:20231026T122000
DTEND;TZID=America/Regina:20231026T130000
DTSTAMP:20260421T112155
CREATED:20230915T212209Z
LAST-MODIFIED:20230915T212209Z
UID:3450-1698322800-1698325200@schools.prairiesouth.ca
SUMMARY:Grilled cheese
DESCRIPTION:
URL:https://schools.prairiesouth.ca/sites/chaplin/event/grilled-cheese-23/
END:VEVENT
BEGIN:VEVENT
DTSTART;TZID=America/Regina:20231018T122000
DTEND;TZID=America/Regina:20231018T130000
DTSTAMP:20260421T112155
CREATED:20230915T212234Z
LAST-MODIFIED:20230915T212234Z
UID:3452-1697631600-1697634000@schools.prairiesouth.ca
SUMMARY:Hot lunch
DESCRIPTION:
URL:https://schools.prairiesouth.ca/sites/chaplin/event/hot-lunch-10/
END:VEVENT
BEGIN:VEVENT
DTSTART;TZID=America/Regina:20231013T122000
DTEND;TZID=America/Regina:20231013T130000
DTSTAMP:20260421T112155
CREATED:20230915T212145Z
LAST-MODIFIED:20230915T212145Z
UID:3448-1697199600-1697202000@schools.prairiesouth.ca
SUMMARY:Grilled cheese
DESCRIPTION:
URL:https://schools.prairiesouth.ca/sites/chaplin/event/grilled-cheese-22/
END:VEVENT
BEGIN:VEVENT
DTSTART;TZID=America/Regina:20231004T090000
DTEND;TZID=America/Regina:20231004T100000
DTSTAMP:20260421T112155
CREATED:20230901T162730Z
LAST-MODIFIED:20230901T162730Z
UID:3437-1696410000-1696413600@schools.prairiesouth.ca
SUMMARY:School Pictures
DESCRIPTION:No retakes available.
URL:https://schools.prairiesouth.ca/sites/chaplin/event/school-pictures/
END:VEVENT
BEGIN:VEVENT
DTSTART;TZID=America/Regina:20230929T122000
DTEND;TZID=America/Regina:20230929T130000
DTSTAMP:20260421T112155
CREATED:20230901T162914Z
LAST-MODIFIED:20230901T162914Z
UID:3441-1695990000-1695992400@schools.prairiesouth.ca
SUMMARY:Grilled cheese lunch
DESCRIPTION:
URL:https://schools.prairiesouth.ca/sites/chaplin/event/grilled-cheese-lunch-2/
END:VEVENT
BEGIN:VEVENT
DTSTART;TZID=America/Regina:20230926T133000
DTEND;TZID=America/Regina:20230926T150000
DTSTAMP:20260421T112155
CREATED:20230901T162601Z
LAST-MODIFIED:20230901T162601Z
UID:3435-1695735000-1695740400@schools.prairiesouth.ca
SUMMARY:Terry Fox Run
DESCRIPTION:
URL:https://schools.prairiesouth.ca/sites/chaplin/event/terry-fox-run-2/
END:VEVENT
BEGIN:VEVENT
DTSTART;VALUE=DATE:20230922
DTEND;VALUE=DATE:20230923
DTSTAMP:20260421T112155
CREATED:20230627T181544Z
LAST-MODIFIED:20230627T181544Z
UID:3428-1695340800-1695427199@schools.prairiesouth.ca
SUMMARY:No school
DESCRIPTION:
URL:https://schools.prairiesouth.ca/sites/chaplin/event/no-school-36/
END:VEVENT
BEGIN:VEVENT
DTSTART;TZID=America/Regina:20230921T170000
DTEND;TZID=America/Regina:20230921T190000
DTSTAMP:20260421T112155
CREATED:20230901T162447Z
LAST-MODIFIED:20230901T162447Z
UID:3433-1695315600-1695322800@schools.prairiesouth.ca
SUMMARY:Meet the staff BBQ
DESCRIPTION:
URL:https://schools.prairiesouth.ca/sites/chaplin/event/meet-the-staff-bbq-2/
END:VEVENT
BEGIN:VEVENT
DTSTART;TZID=America/Regina:20230915T122000
DTEND;TZID=America/Regina:20230915T130000
DTSTAMP:20260421T112155
CREATED:20230901T162845Z
LAST-MODIFIED:20230901T162845Z
UID:3439-1694780400-1694782800@schools.prairiesouth.ca
SUMMARY:Grilled cheese lunch
DESCRIPTION:
URL:https://schools.prairiesouth.ca/sites/chaplin/event/grilled-cheese-lunch/
END:VEVENT
BEGIN:VEVENT
DTSTART;VALUE=DATE:20230911
DTEND;VALUE=DATE:20230912
DTSTAMP:20260421T112155
CREATED:20230627T181456Z
LAST-MODIFIED:20230627T181456Z
UID:3425-1694390400-1694476799@schools.prairiesouth.ca
SUMMARY:First day of Kindergarten
DESCRIPTION:
URL:https://schools.prairiesouth.ca/sites/chaplin/event/first-day-of-kindergarten/
END:VEVENT
BEGIN:VEVENT
DTSTART;VALUE=DATE:20230908
DTEND;VALUE=DATE:20230909
DTSTAMP:20260421T112155
CREATED:20230627T181436Z
LAST-MODIFIED:20230627T181436Z
UID:3423-1694131200-1694217599@schools.prairiesouth.ca
SUMMARY:Kindergarten orientation
DESCRIPTION:
URL:https://schools.prairiesouth.ca/sites/chaplin/event/kindergarten-orientation/
END:VEVENT
BEGIN:VEVENT
DTSTART;VALUE=DATE:20230905
DTEND;VALUE=DATE:20230906
DTSTAMP:20260421T112155
CREATED:20230627T181417Z
LAST-MODIFIED:20230627T181417Z
UID:3421-1693872000-1693958399@schools.prairiesouth.ca
SUMMARY:First day of school
DESCRIPTION:For grade 1-12
URL:https://schools.prairiesouth.ca/sites/chaplin/event/first-day-of-school-2/
END:VEVENT
BEGIN:VEVENT
DTSTART;VALUE=DATE:20230629
DTEND;VALUE=DATE:20230701
DTSTAMP:20260421T112155
CREATED:20230501T193925Z
LAST-MODIFIED:20230501T193925Z
UID:3357-1687996800-1688169599@schools.prairiesouth.ca
SUMMARY:No school
DESCRIPTION:
URL:https://schools.prairiesouth.ca/sites/chaplin/event/no-school-35/
END:VEVENT
BEGIN:VEVENT
DTSTART;VALUE=DATE:20230628
DTEND;VALUE=DATE:20230629
DTSTAMP:20260421T112155
CREATED:20230531T154158Z
LAST-MODIFIED:20230531T154158Z
UID:3380-1687910400-1687996799@schools.prairiesouth.ca
SUMMARY:Last day of class
DESCRIPTION:
URL:https://schools.prairiesouth.ca/sites/chaplin/event/last-day-of-class-2/
END:VEVENT
BEGIN:VEVENT
DTSTART;VALUE=DATE:20230628
DTEND;VALUE=DATE:20230629
DTSTAMP:20260421T112155
CREATED:20230501T193952Z
LAST-MODIFIED:20230501T193952Z
UID:3359-1687910400-1687996799@schools.prairiesouth.ca
SUMMARY:Last day of classes
DESCRIPTION:
URL:https://schools.prairiesouth.ca/sites/chaplin/event/last-day-of-classes/
END:VEVENT
BEGIN:VEVENT
DTSTART;VALUE=DATE:20230626
DTEND;VALUE=DATE:20230627
DTSTAMP:20260421T112155
CREATED:20230501T194428Z
LAST-MODIFIED:20230501T194428Z
UID:3369-1687737600-1687823999@schools.prairiesouth.ca
SUMMARY:Finals
DESCRIPTION:
URL:https://schools.prairiesouth.ca/sites/chaplin/event/finals-4/
END:VEVENT
BEGIN:VEVENT
DTSTART;VALUE=DATE:20230623
DTEND;VALUE=DATE:20230624
DTSTAMP:20260421T112155
CREATED:20230501T194411Z
LAST-MODIFIED:20230501T194411Z
UID:3367-1687478400-1687564799@schools.prairiesouth.ca
SUMMARY:Finals
DESCRIPTION:
URL:https://schools.prairiesouth.ca/sites/chaplin/event/finals-3/
END:VEVENT
BEGIN:VEVENT
DTSTART;VALUE=DATE:20230622
DTEND;VALUE=DATE:20230623
DTSTAMP:20260421T112155
CREATED:20230612T204547Z
LAST-MODIFIED:20230612T204547Z
UID:3392-1687392000-1687478399@schools.prairiesouth.ca
SUMMARY:Gr. K-5 field trip
DESCRIPTION:
URL:https://schools.prairiesouth.ca/sites/chaplin/event/gr-k-5-field-trip/
END:VEVENT
BEGIN:VEVENT
DTSTART;VALUE=DATE:20230622
DTEND;VALUE=DATE:20230623
DTSTAMP:20260421T112155
CREATED:20230501T194339Z
LAST-MODIFIED:20230501T194339Z
UID:3365-1687392000-1687478399@schools.prairiesouth.ca
SUMMARY:Finals
DESCRIPTION:
URL:https://schools.prairiesouth.ca/sites/chaplin/event/finals-2/
END:VEVENT
BEGIN:VEVENT
DTSTART;VALUE=DATE:20230620
DTEND;VALUE=DATE:20230621
DTSTAMP:20260421T112155
CREATED:20230501T193901Z
LAST-MODIFIED:20230501T193901Z
UID:3355-1687219200-1687305599@schools.prairiesouth.ca
SUMMARY:Awards
DESCRIPTION:
URL:https://schools.prairiesouth.ca/sites/chaplin/event/awards/
END:VEVENT
BEGIN:VEVENT
DTSTART;VALUE=DATE:20230616
DTEND;VALUE=DATE:20230617
DTSTAMP:20260421T112155
CREATED:20230531T200654Z
LAST-MODIFIED:20230531T200654Z
UID:3385-1686873600-1686959999@schools.prairiesouth.ca
SUMMARY:Gr. K-8 Play Day Mortlach
DESCRIPTION:
URL:https://schools.prairiesouth.ca/sites/chaplin/event/gr-k-8-play-day-mortlach/
END:VEVENT
BEGIN:VEVENT
DTSTART;VALUE=DATE:20230616
DTEND;VALUE=DATE:20230617
DTSTAMP:20260421T112155
CREATED:20230501T193843Z
LAST-MODIFIED:20230501T193843Z
UID:3353-1686873600-1686959999@schools.prairiesouth.ca
SUMMARY:Grade 12 graduation
DESCRIPTION:
URL:https://schools.prairiesouth.ca/sites/chaplin/event/grade-12-graduation-2/
END:VEVENT
BEGIN:VEVENT
DTSTART;VALUE=DATE:20230615
DTEND;VALUE=DATE:20230616
DTSTAMP:20260421T112155
CREATED:20230531T200755Z
LAST-MODIFIED:20230531T200755Z
UID:3389-1686787200-1686873599@schools.prairiesouth.ca
SUMMARY:Gr. 7-8 Field Trip
DESCRIPTION:
URL:https://schools.prairiesouth.ca/sites/chaplin/event/gr-7-8-field-trip/
END:VEVENT
BEGIN:VEVENT
DTSTART;VALUE=DATE:20230614
DTEND;VALUE=DATE:20230615
DTSTAMP:20260421T112155
CREATED:20230531T200723Z
LAST-MODIFIED:20230531T200723Z
UID:3387-1686700800-1686787199@schools.prairiesouth.ca
SUMMARY:Gr 4/5 Standards Meet - Moose Jaw
DESCRIPTION:
URL:https://schools.prairiesouth.ca/sites/chaplin/event/gr-4-5-standards-meet-moose-jaw/
END:VEVENT
BEGIN:VEVENT
DTSTART;VALUE=DATE:20230609
DTEND;VALUE=DATE:20230610
DTSTAMP:20260421T112155
CREATED:20230531T153807Z
LAST-MODIFIED:20230531T153831Z
UID:3378-1686268800-1686355199@schools.prairiesouth.ca
SUMMARY:No school
DESCRIPTION:
URL:https://schools.prairiesouth.ca/sites/chaplin/event/no-school-37/
END:VEVENT
BEGIN:VEVENT
DTSTART;VALUE=DATE:20230609
DTEND;VALUE=DATE:20230610
DTSTAMP:20260421T112155
CREATED:20230501T193801Z
LAST-MODIFIED:20230501T193801Z
UID:3351-1686268800-1686355199@schools.prairiesouth.ca
SUMMARY:No school
DESCRIPTION:
URL:https://schools.prairiesouth.ca/sites/chaplin/event/no-school-34/
END:VEVENT
END:VCALENDAR