BEGIN:VCALENDAR
VERSION:2.0
PRODID:-//Chaplin School - ECPv6.15.20//NONSGML v1.0//EN
CALSCALE:GREGORIAN
METHOD:PUBLISH
X-WR-CALNAME:Chaplin School
X-ORIGINAL-URL:https://schools.prairiesouth.ca/sites/chaplin
X-WR-CALDESC:Events for Chaplin School
REFRESH-INTERVAL;VALUE=DURATION:PT1H
X-Robots-Tag:noindex
X-PUBLISHED-TTL:PT1H
BEGIN:VTIMEZONE
TZID:America/Regina
BEGIN:STANDARD
TZOFFSETFROM:-0600
TZOFFSETTO:-0600
TZNAME:CST
DTSTART:20220101T000000
END:STANDARD
END:VTIMEZONE
BEGIN:VEVENT
DTSTART;VALUE=DATE:20230524
DTEND;VALUE=DATE:20230525
DTSTAMP:20260421T160634
CREATED:20230426T210810Z
LAST-MODIFIED:20230426T210810Z
UID:3345-1684886400-1684972799@schools.prairiesouth.ca
SUMMARY:Track and Field Districts
DESCRIPTION:Grade 7-12
URL:https://schools.prairiesouth.ca/sites/chaplin/event/track-and-field-districts/
END:VEVENT
BEGIN:VEVENT
DTSTART;VALUE=DATE:20230522
DTEND;VALUE=DATE:20230523
DTSTAMP:20260421T160634
CREATED:20230426T210722Z
LAST-MODIFIED:20230426T210722Z
UID:3343-1684713600-1684799999@schools.prairiesouth.ca
SUMMARY:No school
DESCRIPTION:
URL:https://schools.prairiesouth.ca/sites/chaplin/event/no-school-32/
END:VEVENT
BEGIN:VEVENT
DTSTART;VALUE=DATE:20230519
DTEND;VALUE=DATE:20230520
DTSTAMP:20260421T160634
CREATED:20230426T210705Z
LAST-MODIFIED:20230426T210705Z
UID:3341-1684454400-1684540799@schools.prairiesouth.ca
SUMMARY:No school
DESCRIPTION:
URL:https://schools.prairiesouth.ca/sites/chaplin/event/no-school-31/
END:VEVENT
BEGIN:VEVENT
DTSTART;VALUE=DATE:20230518
DTEND;VALUE=DATE:20230519
DTSTAMP:20260421T160634
CREATED:20230426T210651Z
LAST-MODIFIED:20230426T210651Z
UID:3339-1684368000-1684454399@schools.prairiesouth.ca
SUMMARY:Grilled cheese
DESCRIPTION:
URL:https://schools.prairiesouth.ca/sites/chaplin/event/grilled-cheese-19/
END:VEVENT
BEGIN:VEVENT
DTSTART;VALUE=DATE:20230517
DTEND;VALUE=DATE:20230518
DTSTAMP:20260421T160634
CREATED:20230420T164524Z
LAST-MODIFIED:20230420T164524Z
UID:3312-1684281600-1684367999@schools.prairiesouth.ca
SUMMARY:Spirit Day
DESCRIPTION:Dress like a Disney character
URL:https://schools.prairiesouth.ca/sites/chaplin/event/spirit-day-4/
END:VEVENT
BEGIN:VEVENT
DTSTART;VALUE=DATE:20230516
DTEND;VALUE=DATE:20230517
DTSTAMP:20260421T160634
CREATED:20230426T210631Z
LAST-MODIFIED:20230426T210631Z
UID:3337-1684195200-1684281599@schools.prairiesouth.ca
SUMMARY:Track and Field - Sectionals
DESCRIPTION:Gr. 7-12
URL:https://schools.prairiesouth.ca/sites/chaplin/event/track-and-field-sectionals/
END:VEVENT
BEGIN:VEVENT
DTSTART;TZID=America/Regina:20230515T083000
DTEND;TZID=America/Regina:20230515T090000
DTSTAMP:20260421T160634
CREATED:20230426T210604Z
LAST-MODIFIED:20230426T210604Z
UID:3335-1684139400-1684141200@schools.prairiesouth.ca
SUMMARY:SCC Breakfast
DESCRIPTION:All community members welcome to attend.
URL:https://schools.prairiesouth.ca/sites/chaplin/event/scc-breakfast-4/
END:VEVENT
BEGIN:VEVENT
DTSTART;VALUE=DATE:20230512
DTEND;VALUE=DATE:20230513
DTSTAMP:20260421T160634
CREATED:20230426T210518Z
LAST-MODIFIED:20230426T210518Z
UID:3333-1683849600-1683935999@schools.prairiesouth.ca
SUMMARY:No school
DESCRIPTION:
URL:https://schools.prairiesouth.ca/sites/chaplin/event/no-school-30/
END:VEVENT
BEGIN:VEVENT
DTSTART;VALUE=DATE:20230510
DTEND;VALUE=DATE:20230511
DTSTAMP:20260421T160634
CREATED:20230420T173321Z
LAST-MODIFIED:20230420T173321Z
UID:3319-1683676800-1683763199@schools.prairiesouth.ca
SUMMARY:Mini Meet
DESCRIPTION:Track 2023\n\n\n\n\n\n\n\n\n\nTRACK:  MINI MEET 3 SCHEDULE OF EVENTS\n\n\n\n\n\n\n\n\n\n\n\n\n\nWEDNESDAY\, MAY 10\, 2023   @ GUTHERIDGE FIELD\n\n\n\n\n\n\n\n\n\n\n\n\n\nTRACK:\n\nFIELD:\n\n\n4:00\n1\nIntermediate Girls\nHURDLES\n\n4:00\n\nIntermediate Girls\nHIGH JUMP\n\n\n\n2\nJunior Girls\nHURDLES\n\n\n\nJunior Girls\nLONG JUMP\n\n\n\n3\nSenior Girls\nHURDLES\n\n\n\nSenior Girls\nJAVELIN\n\n\n\n4\nIntermediate Boys\nHURDLES\n\n\n\nIntermediate Boys\nTRIPLE JUMP\n\n\n\n5\nJunior Boys\nHURDLES\n\n\n\nJunior Boys\nSHOT PUT\n\n\n\n6\nSenior Boys\nHURDLES\n\n\n\nSenior Boys\nDISCUS\n\n\n\n\n\n\n\n\n\n\n\n\n\n\n\n\n\n\n\n\n\n\n\n\n4:40\n7\nIntermediate Girls\n800 M\n\n4:35\n\nIntermediate Girls\nLONG JUMP\n\n\n\n8\nJunior Girls\n800 M\n\n\n\nJunior Girls\nJAVELIN\n\n\n\n9\nSenior Girls\n800 M\n\n\n\nSenior Girls\nHIGH JUMP\n\n\n\n10\nIntermediate Boys\n800 M\n\n\n\nIntermediate Boys\nDISCUS\n\n\n\n11\nJunior Boys\n800 M\n\n\n\nJunior Boys\nTRIPLE JUMP\n\n\n\n12\nSenior Boys\n800 M\n\n\n\nSenior Boys\nSHOT PUT\n\n\n\n\n\n\n\n\n\n\n\n\n\n\n\n\n\n\n\n\n\n\n\n\n5:15\n13\nIntermediate Girls\n100 M\n\n5:10\n\nIntermediate Girls\nJAVELIN\n\n\n\n14\nJunior Girls\n100 M\n\n\n\nJunior Girls\nHIGH JUMP\n\n\n\n15\nSenior Girls\n100 M\n\n\n\nSenior Girls\nLONG JUMP\n\n\n\n16\nIntermediate Boys\n100 M\n\n\n\nIntermediate Boys\nSHOT PUT\n\n\n\n17\nJunior Boys\n100 M\n\n\n\nJunior Boys\nDISCUS\n\n\n\n18\nSenior Boys\n100 M\n\n\n\nSenior Boys\nTRIPLE JUMP\n\n\n\n\n\n\n\n\n\n\n\n\n\n5:50\n19\nOPEN GIRLS\n3000 M\n\n\n\n\n\n\n\n\n20\nOPEN BOYS\n3000 M\n\n5:45\n\nIntermediate Girls\nSHOT PUT\n\n\n\n\n\n\n\n\n\nJunior Girls\nTRIPLE JUMP\n\n\n\n\n\n\n\n\n\nSenior Girls\nDISCUS\n\n\n6:15\n21\nIntermediate Girls\n4 X 100 M RELAY\n\n\n\nIntermediate Boys\nLONG JUMP\n\n\n\n22\nJunior Girls\n4 X 100 M RELAY\n\n\n\nJunior Boys\nHIGH JUMP\n\n\n\n23\nSenior Girls\n4 X 100 M RELAY\n\n\n\nSenior Boys\nJAVELIN\n\n\n\n24\nIntermediate Boys\n4 X 100 M RELAY\n\n\n\n\n\n\n\n\n25\nJunior Boys\n4 X 100 M RELAY\n\n\n\n\n\n\n\n\n26\nSenior Boys\n4 X 100 M RELAY
URL:https://schools.prairiesouth.ca/sites/chaplin/event/mini-meet-2/
END:VEVENT
BEGIN:VEVENT
DTSTART;VALUE=DATE:20230510
DTEND;VALUE=DATE:20230511
DTSTAMP:20260421T160634
CREATED:20230420T164457Z
LAST-MODIFIED:20230420T164457Z
UID:3310-1683676800-1683763199@schools.prairiesouth.ca
SUMMARY:Spirit Day
DESCRIPTION:One colour day – wear all of one colour!
URL:https://schools.prairiesouth.ca/sites/chaplin/event/spirit-day-3/
END:VEVENT
BEGIN:VEVENT
DTSTART;VALUE=DATE:20230505
DTEND;VALUE=DATE:20230506
DTSTAMP:20260421T160634
CREATED:20230426T210441Z
LAST-MODIFIED:20230426T210441Z
UID:3331-1683244800-1683331199@schools.prairiesouth.ca
SUMMARY:No school - teacher prep
DESCRIPTION:
URL:https://schools.prairiesouth.ca/sites/chaplin/event/no-school-teacher-prep-4/
END:VEVENT
BEGIN:VEVENT
DTSTART;VALUE=DATE:20230504
DTEND;VALUE=DATE:20230505
DTSTAMP:20260421T160634
CREATED:20230426T210416Z
LAST-MODIFIED:20230426T210416Z
UID:3329-1683158400-1683244799@schools.prairiesouth.ca
SUMMARY:Grilled cheese
DESCRIPTION:
URL:https://schools.prairiesouth.ca/sites/chaplin/event/grilled-cheese-18/
END:VEVENT
BEGIN:VEVENT
DTSTART;VALUE=DATE:20230503
DTEND;VALUE=DATE:20230504
DTSTAMP:20260421T160634
CREATED:20230426T210354Z
LAST-MODIFIED:20230426T210354Z
UID:3327-1683072000-1683158399@schools.prairiesouth.ca
SUMMARY:Try a career Gr 9-11
DESCRIPTION:
URL:https://schools.prairiesouth.ca/sites/chaplin/event/try-a-career-gr-9-11/
END:VEVENT
BEGIN:VEVENT
DTSTART;VALUE=DATE:20230503
DTEND;VALUE=DATE:20230504
DTSTAMP:20260421T160634
CREATED:20230420T173250Z
LAST-MODIFIED:20230420T173250Z
UID:3317-1683072000-1683158399@schools.prairiesouth.ca
SUMMARY:Mini Meet
DESCRIPTION:Track 2023\n\n\n\n\n\n\n\n\n\nTRACK:  MINI MEET 2 SCHEDULE OF EVENTS\n\n\n\n\n\n\n\n\n\n\n\n\n\nWEDNESDAY\, MAY 3\, 2023 @ GUTHERIDGE FIELD\n\n\n\n\n\n\n\n\n\n\n\n\n\nTRACK:\n\nFIELD:\n\n\n4:00\n1\nIntermediate Girls\nHURDLES\n\n4:00\n\nIntermediate Girls\nTRIPLE JUMP\n\n\n\n2\nJunior Girls\nHURDLES\n\n\n\nJunior Girls\nDISCUS\n\n\n\n3\nSenior Girls\nHURDLES\n\n\n\nSenior Girls\nSHOT PUT\n\n\n\n4\nIntermediate Boys\nHURDLES\n\n\n\nIntermediate Boys\nHIGH JUMP\n\n\n\n5\nJunior Boys\nHURDLES\n\n\n\nJunior Boys\nJAVELIN\n\n\n\n6\nSenior Boys\nHURDLES\n\n\n\nSenior Boys\nLONG JUMP\n\n\n\n\n\n\n\n\n\n\n\n\n\n\n\n\n\n\n\n\n\n\n\n\n4:35\n7\nIntermediate Girls\n400 M (TSF)\n\n4:35\n\nIntermediate Girls\nSHOT PUT\n\n\n\n8\nJunior Girls\n400 M (TSF)\n\n\n\nJunior Girls\nTRIPLE JUMP\n\n\n\n9\nSenior Girls\n400 M (TSF)\n\n\n\nSenior Girls\nDISCUS\n\n\n\n10\nIntermediate Boys\n400 M (TSF)\n\n\n\nIntermediate Boys\nLONG JUMP\n\n\n\n11\nJunior Boys\n400 M (TSF)\n\n\n\nJunior Boys\nHIGH JUMP\n\n\n\n12\nSenior Boys\n400 M (TSF)\n\n\n\nSenior Boys\nJAVELIN\n\n\n\n\n\n\n\n\n\n\n\n\n\n\n\n\n\n\n\n\n\n\n\n\n5:05\n13\nIntermediate Girls\n200 M\n\n5:10\n\nIntermediate Girls\nDISCUS\n\n\n\n14\nJunior Girls\n200 M\n\n\n\nJunior Girls\nSHOT PUT\n\n\n\n15\nSenior Girls\n200 M\n\n\n\nSenior Girls\nTRIPLE JUMP\n\n\n\n16\nIntermediate Boys\n200 M\n\n\n\nIntermediate Boys\nJAVELIN\n\n\n\n17\nJunior Boys\n200 M\n\n\n\nJunior Boys\nLONG JUMP\n\n\n\n18\nSenior Boys\n200 M\n\n\n\nSenior Boys\nHIGH JUMP\n\n\n\n\n\n\n\n\n\n\n\n\n\n\n\n\n\n\n\n\n\n\n\n\n5:35\n19\nIntermediate Girls\n800 M\n\n5:45\n\nIntermediate Girls\nJAVELIN\n\n\n\n20\nJunior Girls\n800 M\n\n\n\nJunior Girls\nHIGH JUMP\n\n\n\n21\nSenior Girls\n800 M\n\n\n\nSenior Girls\nLONG JUMP\n\n\n\n22\nIntermediate Boys\n800 M\n\n\n\nIntermediate Boys\nSHOT PUT\n\n\n\n23\nJunior Boys\n800 M\n\n\n\nJunior Boys\nDISCUS\n\n\n\n24\nSenior Boys\n800 M\n\n\n\nSenior Boys\nTRIPLE JUMP\n\n\n\n\n\n\n\n\n\n\n\n\n\n6:15\n25\nIntermediate Girls\n4 X 100 M RELAY\n\n\n\n\n\n\n\n\n26\nJunior Girls\n4 X 100 M RELAY\n\n\n\n\n\n\n\n\n27\nSenior Girls\n4 X 100 M RELAY\n\n\n\n\n\n\n\n\n28\nIntermediate Boys\n4 X 100 M RELAY\n\n\n\n\n\n\n\n\n29\nJunior Boys\n4 X 100 M RELAY\n\n\n\n\n\n\n\n\n30\nSenior Boys\n4 X 100 M RELAY
URL:https://schools.prairiesouth.ca/sites/chaplin/event/mini-meet/
END:VEVENT
BEGIN:VEVENT
DTSTART;TZID=America/Regina:20230502T190000
DTEND;TZID=America/Regina:20230502T210000
DTSTAMP:20260421T160634
CREATED:20230426T210304Z
LAST-MODIFIED:20230426T210304Z
UID:3325-1683054000-1683061200@schools.prairiesouth.ca
SUMMARY:SCC AGM
DESCRIPTION:
URL:https://schools.prairiesouth.ca/sites/chaplin/event/scc-agm/
END:VEVENT
BEGIN:VEVENT
DTSTART;VALUE=DATE:20230429
DTEND;VALUE=DATE:20230430
DTSTAMP:20260421T160634
CREATED:20230330T182019Z
LAST-MODIFIED:20230330T182019Z
UID:3307-1682726400-1682812799@schools.prairiesouth.ca
SUMMARY:Bantam Badminton Districts - Peacock
DESCRIPTION:
URL:https://schools.prairiesouth.ca/sites/chaplin/event/bantam-badminton-districts-peacock/
END:VEVENT
BEGIN:VEVENT
DTSTART;VALUE=DATE:20230428
DTEND;VALUE=DATE:20230429
DTSTAMP:20260421T160634
CREATED:20230330T181421Z
LAST-MODIFIED:20230330T181421Z
UID:3289-1682640000-1682726399@schools.prairiesouth.ca
SUMMARY:No school
DESCRIPTION:
URL:https://schools.prairiesouth.ca/sites/chaplin/event/no-school-29/
END:VEVENT
BEGIN:VEVENT
DTSTART;VALUE=DATE:20230426
DTEND;VALUE=DATE:20230427
DTSTAMP:20260421T160634
CREATED:20230330T181801Z
LAST-MODIFIED:20230330T181801Z
UID:3301-1682467200-1682553599@schools.prairiesouth.ca
SUMMARY:Hot lunch
DESCRIPTION:
URL:https://schools.prairiesouth.ca/sites/chaplin/event/hot-lunch-8/
END:VEVENT
BEGIN:VEVENT
DTSTART;VALUE=DATE:20230422
DTEND;VALUE=DATE:20230423
DTSTAMP:20260421T160634
CREATED:20230330T181940Z
LAST-MODIFIED:20230330T181940Z
UID:3305-1682121600-1682207999@schools.prairiesouth.ca
SUMMARY:Bantam Badminton North Sectionals
DESCRIPTION:
URL:https://schools.prairiesouth.ca/sites/chaplin/event/bantam-badminton-north-sectionals/
END:VEVENT
BEGIN:VEVENT
DTSTART;VALUE=DATE:20230421
DTEND;VALUE=DATE:20230422
DTSTAMP:20260421T160634
CREATED:20230330T181904Z
LAST-MODIFIED:20230330T181904Z
UID:3303-1682035200-1682121599@schools.prairiesouth.ca
SUMMARY:Sr. Badminton North Sectionals - Caronport
DESCRIPTION:
URL:https://schools.prairiesouth.ca/sites/chaplin/event/sr-badminton-north-sectionals-caronport/
END:VEVENT
BEGIN:VEVENT
DTSTART;VALUE=DATE:20230421
DTEND;VALUE=DATE:20230422
DTSTAMP:20260421T160634
CREATED:20230330T181743Z
LAST-MODIFIED:20230330T181743Z
UID:3299-1682035200-1682121599@schools.prairiesouth.ca
SUMMARY:Grilled cheese
DESCRIPTION:
URL:https://schools.prairiesouth.ca/sites/chaplin/event/grilled-cheese-17/
END:VEVENT
BEGIN:VEVENT
DTSTART;VALUE=DATE:20230420
DTEND;VALUE=DATE:20230421
DTSTAMP:20260421T160634
CREATED:20230330T181646Z
LAST-MODIFIED:20230330T181646Z
UID:3295-1681948800-1682035199@schools.prairiesouth.ca
SUMMARY:Spirit day
DESCRIPTION:Anything but a backpack.
URL:https://schools.prairiesouth.ca/sites/chaplin/event/spirit-day-2/
END:VEVENT
BEGIN:VEVENT
DTSTART;VALUE=DATE:20230410
DTEND;VALUE=DATE:20230415
DTSTAMP:20260421T160634
CREATED:20230330T181332Z
LAST-MODIFIED:20230330T181332Z
UID:3286-1681084800-1681516799@schools.prairiesouth.ca
SUMMARY:No school
DESCRIPTION:
URL:https://schools.prairiesouth.ca/sites/chaplin/event/no-school-28/
END:VEVENT
BEGIN:VEVENT
DTSTART;VALUE=DATE:20230407
DTEND;VALUE=DATE:20230408
DTSTAMP:20260421T160634
CREATED:20230330T181308Z
LAST-MODIFIED:20230330T181308Z
UID:3284-1680825600-1680911999@schools.prairiesouth.ca
SUMMARY:No school
DESCRIPTION:
URL:https://schools.prairiesouth.ca/sites/chaplin/event/no-school-27/
END:VEVENT
BEGIN:VEVENT
DTSTART;VALUE=DATE:20230406
DTEND;VALUE=DATE:20230407
DTSTAMP:20260421T160634
CREATED:20230330T181532Z
LAST-MODIFIED:20230330T181532Z
UID:3293-1680739200-1680825599@schools.prairiesouth.ca
SUMMARY:SRC Easter Blast
DESCRIPTION:
URL:https://schools.prairiesouth.ca/sites/chaplin/event/src-easter-blast/
END:VEVENT
BEGIN:VEVENT
DTSTART;VALUE=DATE:20230406
DTEND;VALUE=DATE:20230407
DTSTAMP:20260421T160634
CREATED:20230330T181510Z
LAST-MODIFIED:20230330T181510Z
UID:3291-1680739200-1680825599@schools.prairiesouth.ca
SUMMARY:Spirit day
DESCRIPTION:Dress like an Easter colour/character.
URL:https://schools.prairiesouth.ca/sites/chaplin/event/spirit-day/
END:VEVENT
BEGIN:VEVENT
DTSTART;VALUE=DATE:20230406
DTEND;VALUE=DATE:20230407
DTSTAMP:20260421T160634
CREATED:20230330T181110Z
LAST-MODIFIED:20230330T181110Z
UID:3280-1680739200-1680825599@schools.prairiesouth.ca
SUMMARY:Grilled cheese
DESCRIPTION:
URL:https://schools.prairiesouth.ca/sites/chaplin/event/grilled-cheese-16/
END:VEVENT
BEGIN:VEVENT
DTSTART;TZID=America/Regina:20230403T083000
DTEND;TZID=America/Regina:20230403T090000
DTSTAMP:20260421T160634
CREATED:20230330T181050Z
LAST-MODIFIED:20230330T181050Z
UID:3278-1680510600-1680512400@schools.prairiesouth.ca
SUMMARY:SCC breakfast
DESCRIPTION:
URL:https://schools.prairiesouth.ca/sites/chaplin/event/scc-breakfast-3/
END:VEVENT
BEGIN:VEVENT
DTSTART;VALUE=DATE:20230331
DTEND;VALUE=DATE:20230401
DTSTAMP:20260421T160634
CREATED:20230301T190541Z
LAST-MODIFIED:20230301T190541Z
UID:3257-1680220800-1680307199@schools.prairiesouth.ca
SUMMARY:No school
DESCRIPTION:
URL:https://schools.prairiesouth.ca/sites/chaplin/event/no-school-26/
END:VEVENT
BEGIN:VEVENT
DTSTART;TZID=America/Regina:20230328T160000
DTEND;TZID=America/Regina:20230328T190000
DTSTAMP:20260421T160634
CREATED:20230301T190500Z
LAST-MODIFIED:20230301T190500Z
UID:3253-1680019200-1680030000@schools.prairiesouth.ca
SUMMARY:Student Led Conferences
DESCRIPTION:
URL:https://schools.prairiesouth.ca/sites/chaplin/event/student-led-conferences-3/
END:VEVENT
END:VCALENDAR