BEGIN:VCALENDAR
VERSION:2.0
PRODID:-//Coronach School - ECPv6.15.20//NONSGML v1.0//EN
CALSCALE:GREGORIAN
METHOD:PUBLISH
X-ORIGINAL-URL:https://schools.prairiesouth.ca/sites/coronach
X-WR-CALDESC:Events for Coronach School
REFRESH-INTERVAL;VALUE=DURATION:PT1H
X-Robots-Tag:noindex
X-PUBLISHED-TTL:PT1H
BEGIN:VTIMEZONE
TZID:America/Regina
BEGIN:STANDARD
TZOFFSETFROM:-0600
TZOFFSETTO:-0600
TZNAME:CST
DTSTART:20220101T000000
END:STANDARD
END:VTIMEZONE
BEGIN:VEVENT
DTSTART;VALUE=DATE:20230708
DTEND;VALUE=DATE:20230709
DTSTAMP:20260421T023135
CREATED:20230603T214618Z
LAST-MODIFIED:20230603T214631Z
UID:7812-1688774400-1688860799@schools.prairiesouth.ca
SUMMARY:Grade 5/6 Excursion Trip - Moose Jaw SK
DESCRIPTION:
URL:https://schools.prairiesouth.ca/sites/coronach/event/grade-5-6-excursion-trip-moose-jaw-sk/
END:VEVENT
BEGIN:VEVENT
DTSTART;VALUE=DATE:20230628
DTEND;VALUE=DATE:20230629
DTSTAMP:20260421T023135
CREATED:20230603T215227Z
LAST-MODIFIED:20230603T215230Z
UID:7832-1687910400-1687996799@schools.prairiesouth.ca
SUMMARY:Last Day of School for K-8 Students
DESCRIPTION:
URL:https://schools.prairiesouth.ca/sites/coronach/event/last-day-of-school-for-k-8-students/
END:VEVENT
BEGIN:VEVENT
DTSTART;VALUE=DATE:20230622
DTEND;VALUE=DATE:20230628
DTSTAMP:20260421T023135
CREATED:20230603T215153Z
LAST-MODIFIED:20230603T215156Z
UID:7830-1687392000-1687910399@schools.prairiesouth.ca
SUMMARY:Grade 9-12 Examinations
DESCRIPTION:
URL:https://schools.prairiesouth.ca/sites/coronach/event/grade-9-12-examinations/
END:VEVENT
BEGIN:VEVENT
DTSTART;VALUE=DATE:20230621
DTEND;VALUE=DATE:20230622
DTSTAMP:20260421T023135
CREATED:20230603T215057Z
LAST-MODIFIED:20230603T215059Z
UID:7826-1687305600-1687391999@schools.prairiesouth.ca
SUMMARY:Last Day of Prekindergarten & Prekindergarten Program
DESCRIPTION:
URL:https://schools.prairiesouth.ca/sites/coronach/event/last-day-of-prekindergarten-prekindergarten-program/
END:VEVENT
BEGIN:VEVENT
DTSTART;TZID=America/Regina:20230620T120000
DTEND;TZID=America/Regina:20230620T130000
DTSTAMP:20260421T023135
CREATED:20230603T215020Z
LAST-MODIFIED:20230603T215023Z
UID:7824-1687262400-1687266000@schools.prairiesouth.ca
SUMMARY:Taco in a Bag Hot Lunch Sale
DESCRIPTION:
URL:https://schools.prairiesouth.ca/sites/coronach/event/taco-in-a-bag-hot-lunch-sale/
END:VEVENT
BEGIN:VEVENT
DTSTART;VALUE=DATE:20230620
DTEND;VALUE=DATE:20230622
DTSTAMP:20260421T023135
CREATED:20230603T215127Z
LAST-MODIFIED:20230603T215129Z
UID:7828-1687219200-1687391999@schools.prairiesouth.ca
SUMMARY:Grade 7/8 Excursion Trip - Regina SK
DESCRIPTION:
URL:https://schools.prairiesouth.ca/sites/coronach/event/grade-7-8-excursion-trip-regina-sk/
END:VEVENT
BEGIN:VEVENT
DTSTART;TZID=America/Regina:20230616T143000
DTEND;TZID=America/Regina:20230616T153000
DTSTAMP:20260421T023135
CREATED:20230603T214930Z
LAST-MODIFIED:20230603T214946Z
UID:7822-1686925800-1686929400@schools.prairiesouth.ca
SUMMARY:Awards Assembly
DESCRIPTION:
URL:https://schools.prairiesouth.ca/sites/coronach/event/awards-assembly-2/
END:VEVENT
BEGIN:VEVENT
DTSTART;TZID=America/Regina:20230616T120000
DTEND;TZID=America/Regina:20230616T130000
DTSTAMP:20260421T023135
CREATED:20230603T214855Z
LAST-MODIFIED:20230603T214857Z
UID:7820-1686916800-1686920400@schools.prairiesouth.ca
SUMMARY:Career & Work Appreciation BBQ
DESCRIPTION:
URL:https://schools.prairiesouth.ca/sites/coronach/event/career-work-appreciation-bbq/
END:VEVENT
BEGIN:VEVENT
DTSTART;TZID=America/Regina:20230615T143000
DTEND;TZID=America/Regina:20230615T170000
DTSTAMP:20260421T023135
CREATED:20230603T215417Z
LAST-MODIFIED:20230603T215418Z
UID:7836-1686839400-1686848400@schools.prairiesouth.ca
SUMMARY:Prekindergarten Interviews
DESCRIPTION:
URL:https://schools.prairiesouth.ca/sites/coronach/event/prekindergarten-interviews-2/
END:VEVENT
BEGIN:VEVENT
DTSTART;VALUE=DATE:20230614
DTEND;VALUE=DATE:20230615
DTSTAMP:20260421T023135
CREATED:20230603T214812Z
LAST-MODIFIED:20230603T214814Z
UID:7818-1686700800-1686787199@schools.prairiesouth.ca
SUMMARY:Grade 4 Excursion Trip - Regina SK
DESCRIPTION:
URL:https://schools.prairiesouth.ca/sites/coronach/event/grade-4-excursion-trip-regina-sk/
END:VEVENT
BEGIN:VEVENT
DTSTART;TZID=America/Regina:20230613T143000
DTEND;TZID=America/Regina:20230613T170000
DTSTAMP:20260421T023135
CREATED:20230603T215347Z
LAST-MODIFIED:20230603T215349Z
UID:7834-1686666600-1686675600@schools.prairiesouth.ca
SUMMARY:Prekindergarten Interviews
DESCRIPTION:
URL:https://schools.prairiesouth.ca/sites/coronach/event/prekindergarten-interviews/
END:VEVENT
BEGIN:VEVENT
DTSTART;VALUE=DATE:20230612
DTEND;VALUE=DATE:20230617
DTSTAMP:20260421T023135
CREATED:20230603T214748Z
LAST-MODIFIED:20230603T214750Z
UID:7816-1686528000-1686959999@schools.prairiesouth.ca
SUMMARY:K-12 Swimming Days
DESCRIPTION:
URL:https://schools.prairiesouth.ca/sites/coronach/event/k-12-swimming-days/
END:VEVENT
BEGIN:VEVENT
DTSTART;TZID=America/Regina:20230610T180000
DTEND;TZID=America/Regina:20230610T200000
DTSTAMP:20260421T023135
CREATED:20230603T214703Z
LAST-MODIFIED:20230603T214706Z
UID:7814-1686420000-1686427200@schools.prairiesouth.ca
SUMMARY:Coronach School Graduation
DESCRIPTION:
URL:https://schools.prairiesouth.ca/sites/coronach/event/coronach-school-graduation/
END:VEVENT
BEGIN:VEVENT
DTSTART;VALUE=DATE:20230607
DTEND;VALUE=DATE:20230608
DTSTAMP:20260421T023135
CREATED:20230603T214532Z
LAST-MODIFIED:20230603T214534Z
UID:7810-1686096000-1686182399@schools.prairiesouth.ca
SUMMARY:Kindergarten Excursion Trip - Assiniboia SK
DESCRIPTION:
URL:https://schools.prairiesouth.ca/sites/coronach/event/kindergarten-excursion-trip-assiniboia-sk/
END:VEVENT
BEGIN:VEVENT
DTSTART;VALUE=DATE:20230606
DTEND;VALUE=DATE:20230607
DTSTAMP:20260421T023135
CREATED:20230603T214432Z
LAST-MODIFIED:20230603T214437Z
UID:7808-1686009600-1686095999@schools.prairiesouth.ca
SUMMARY:Elementary Track & Field  9 (Grade 1-6)
DESCRIPTION:
URL:https://schools.prairiesouth.ca/sites/coronach/event/elementary-track-field-9-grade-1-6/
END:VEVENT
BEGIN:VEVENT
DTSTART;TZID=America/Regina:20230526T120000
DTEND;TZID=America/Regina:20230526T130000
DTSTAMP:20260421T023135
CREATED:20230426T161316Z
LAST-MODIFIED:20230426T161333Z
UID:7790-1685102400-1685106000@schools.prairiesouth.ca
SUMMARY:Hamburger Sale
DESCRIPTION:
URL:https://schools.prairiesouth.ca/sites/coronach/event/7790/
END:VEVENT
BEGIN:VEVENT
DTSTART;VALUE=DATE:20230515
DTEND;VALUE=DATE:20230516
DTSTAMP:20260421T023135
CREATED:20230426T160634Z
LAST-MODIFIED:20230426T160634Z
UID:7787-1684108800-1684195199@schools.prairiesouth.ca
SUMMARY:Monthly Awards Assembly K-12
DESCRIPTION:
URL:https://schools.prairiesouth.ca/sites/coronach/event/monthly-awards-assembly-k-12/
END:VEVENT
BEGIN:VEVENT
DTSTART;VALUE=DATE:20230511
DTEND;VALUE=DATE:20230512
DTSTAMP:20260421T023135
CREATED:20230426T160610Z
LAST-MODIFIED:20230426T160610Z
UID:7785-1683763200-1683849599@schools.prairiesouth.ca
SUMMARY:Sask Polytechnic Presentation Grade 9-12
DESCRIPTION:
URL:https://schools.prairiesouth.ca/sites/coronach/event/sask-polytechnic-presentation-grade-9-12/
END:VEVENT
BEGIN:VEVENT
DTSTART;VALUE=DATE:20230503
DTEND;VALUE=DATE:20230504
DTSTAMP:20260421T023135
CREATED:20230426T160533Z
LAST-MODIFIED:20230426T160533Z
UID:7783-1683072000-1683158399@schools.prairiesouth.ca
SUMMARY:Grade 10 Career Expo - Moose Jaw
DESCRIPTION:
URL:https://schools.prairiesouth.ca/sites/coronach/event/grade-10-career-expo-moose-jaw/
END:VEVENT
BEGIN:VEVENT
DTSTART;VALUE=DATE:20230501
DTEND;VALUE=DATE:20230502
DTSTAMP:20260421T023135
CREATED:20230426T160501Z
LAST-MODIFIED:20230426T160501Z
UID:7781-1682899200-1682985599@schools.prairiesouth.ca
SUMMARY:RCMP Digital Citizenship & Online Safety Presentation
DESCRIPTION:
URL:https://schools.prairiesouth.ca/sites/coronach/event/rcmp-digital-citizenship-online-safety-presentation/
END:VEVENT
BEGIN:VEVENT
DTSTART;TZID=America/Regina:20230427T130000
DTEND;TZID=America/Regina:20230427T140000
DTSTAMP:20260421T023135
CREATED:20230426T155044Z
LAST-MODIFIED:20230426T155642Z
UID:7756-1682600400-1682604000@schools.prairiesouth.ca
SUMMARY:SCC Community Career Fair Grade 9-12
DESCRIPTION:
URL:https://schools.prairiesouth.ca/sites/coronach/event/hot-dog-float-sale-2/
END:VEVENT
BEGIN:VEVENT
DTSTART;VALUE=DATE:20230426
DTEND;VALUE=DATE:20230427
DTSTAMP:20260421T023135
CREATED:20230426T160407Z
LAST-MODIFIED:20230426T160407Z
UID:7779-1682467200-1682553599@schools.prairiesouth.ca
SUMMARY:Legacy One Presentations & Workshops
DESCRIPTION:
URL:https://schools.prairiesouth.ca/sites/coronach/event/legacy-one-presentations-workshops/
END:VEVENT
BEGIN:VEVENT
DTSTART;VALUE=DATE:20230424
DTEND;VALUE=DATE:20230428
DTSTAMP:20260421T023135
CREATED:20230426T161706Z
LAST-MODIFIED:20230426T161706Z
UID:7793-1682294400-1682639999@schools.prairiesouth.ca
SUMMARY:SRC Spirit Week
DESCRIPTION:Monday – Plaid Day \nTuesday – Twin Day \nWednesday – Dress Like a Teacher/Staff Member Day \nThursday – Jersey Day
URL:https://schools.prairiesouth.ca/sites/coronach/event/src-spirit-week/
END:VEVENT
BEGIN:VEVENT
DTSTART;VALUE=DATE:20230424
DTEND;VALUE=DATE:20230425
DTSTAMP:20260421T023135
CREATED:20230426T160329Z
LAST-MODIFIED:20230426T160333Z
UID:7777-1682294400-1682380799@schools.prairiesouth.ca
SUMMARY:SCC AGM & Elections
DESCRIPTION:
URL:https://schools.prairiesouth.ca/sites/coronach/event/scc-agm-elections/
END:VEVENT
BEGIN:VEVENT
DTSTART;VALUE=DATE:20230421
DTEND;VALUE=DATE:20230423
DTSTAMP:20260421T023135
CREATED:20230426T160259Z
LAST-MODIFIED:20230426T160259Z
UID:7775-1682035200-1682207999@schools.prairiesouth.ca
SUMMARY:Big Muddy Players & Coronach School Theatre Production
DESCRIPTION:
URL:https://schools.prairiesouth.ca/sites/coronach/event/big-muddy-players-coronach-school-theatre-production/
END:VEVENT
BEGIN:VEVENT
DTSTART;VALUE=DATE:20230420
DTEND;VALUE=DATE:20230421
DTSTAMP:20260421T023135
CREATED:20230426T160217Z
LAST-MODIFIED:20230426T160217Z
UID:7773-1681948800-1682035199@schools.prairiesouth.ca
SUMMARY:9-12 Quarter 3 Report Cards Published to MSS
DESCRIPTION:
URL:https://schools.prairiesouth.ca/sites/coronach/event/9-12-quarter-3-report-cards-published-to-mss/
END:VEVENT
BEGIN:VEVENT
DTSTART;VALUE=DATE:20230420
DTEND;VALUE=DATE:20230421
DTSTAMP:20260421T023135
CREATED:20230426T160143Z
LAST-MODIFIED:20230426T160143Z
UID:7771-1681948800-1682035199@schools.prairiesouth.ca
SUMMARY:Hot Dog Float Sale
DESCRIPTION:
URL:https://schools.prairiesouth.ca/sites/coronach/event/hot-dog-float-sale-3/
END:VEVENT
BEGIN:VEVENT
DTSTART;VALUE=DATE:20230406
DTEND;VALUE=DATE:20230407
DTSTAMP:20260421T023135
CREATED:20230426T160105Z
LAST-MODIFIED:20230426T160105Z
UID:7769-1680739200-1680825599@schools.prairiesouth.ca
SUMMARY:Easter Egg Hunt K-6
DESCRIPTION:
URL:https://schools.prairiesouth.ca/sites/coronach/event/easter-egg-hunt-k-6/
END:VEVENT
BEGIN:VEVENT
DTSTART;VALUE=DATE:20230406
DTEND;VALUE=DATE:20230407
DTSTAMP:20260421T023135
CREATED:20230426T155945Z
LAST-MODIFIED:20230426T160020Z
UID:7766-1680739200-1680825599@schools.prairiesouth.ca
SUMMARY:Spring School Dance(s) K-12
DESCRIPTION:
URL:https://schools.prairiesouth.ca/sites/coronach/event/k-6-easter-egg-hunt/
END:VEVENT
BEGIN:VEVENT
DTSTART;VALUE=DATE:20230405
DTEND;VALUE=DATE:20230406
DTSTAMP:20260421T023135
CREATED:20230426T155905Z
LAST-MODIFIED:20230426T155908Z
UID:7764-1680652800-1680739199@schools.prairiesouth.ca
SUMMARY:Mental Health Youth Conference
DESCRIPTION:
URL:https://schools.prairiesouth.ca/sites/coronach/event/mental-health-youth-conference/
END:VEVENT
END:VCALENDAR