BEGIN:VCALENDAR
VERSION:2.0
PRODID:-//Westmount Elementary School - ECPv6.15.20//NONSGML v1.0//EN
CALSCALE:GREGORIAN
METHOD:PUBLISH
X-WR-CALNAME:Westmount Elementary School
X-ORIGINAL-URL:https://schools.prairiesouth.ca/sites/westmount
X-WR-CALDESC:Events for Westmount Elementary School
REFRESH-INTERVAL;VALUE=DURATION:PT1H
X-Robots-Tag:noindex
X-PUBLISHED-TTL:PT1H
BEGIN:VTIMEZONE
TZID:America/Regina
BEGIN:STANDARD
TZOFFSETFROM:-0600
TZOFFSETTO:-0600
TZNAME:CST
DTSTART:20230101T000000
END:STANDARD
END:VTIMEZONE
BEGIN:VEVENT
DTSTART;TZID=America/Regina:20241118T160000
DTEND;TZID=America/Regina:20241118T170000
DTSTAMP:20260421T080524
CREATED:20241108T205402Z
LAST-MODIFIED:20241108T205402Z
UID:1823-1731945600-1731949200@schools.prairiesouth.ca
SUMMARY:Grade 6-8 Curling
DESCRIPTION:Grade 6-8 Curling
URL:https://schools.prairiesouth.ca/sites/westmount/event/grade-6-8-curling/
END:VEVENT
BEGIN:VEVENT
DTSTART;TZID=America/Regina:20241114T160000
DTEND;TZID=America/Regina:20241114T170000
DTSTAMP:20260421T080524
CREATED:20241108T205123Z
LAST-MODIFIED:20241108T205123Z
UID:1819-1731600000-1731603600@schools.prairiesouth.ca
SUMMARY:Girls "B" Volleyball
DESCRIPTION:Girls “B” Volleyball- Westmount @ Palliser
URL:https://schools.prairiesouth.ca/sites/westmount/event/girls-b-volleyball-3/
END:VEVENT
BEGIN:VEVENT
DTSTART;TZID=America/Regina:20241114T120000
DTEND;TZID=America/Regina:20241114T124000
DTSTAMP:20260421T080524
CREATED:20241106T043830Z
LAST-MODIFIED:20241106T043837Z
UID:1815-1731585600-1731588000@schools.prairiesouth.ca
SUMMARY:SCC Hot Lunch
DESCRIPTION:SCC Hot Lunch
URL:https://schools.prairiesouth.ca/sites/westmount/event/scc-hot-lunch-2/
END:VEVENT
BEGIN:VEVENT
DTSTART;TZID=America/Regina:20241114T090000
DTEND;TZID=America/Regina:20241114T115500
DTSTAMP:20260421T080524
CREATED:20241106T044009Z
LAST-MODIFIED:20241106T044009Z
UID:1817-1731574800-1731585300@schools.prairiesouth.ca
SUMMARY:Picture Retake Day
DESCRIPTION:Picture Retake Day morning only.
URL:https://schools.prairiesouth.ca/sites/westmount/event/picture-retake-day/
END:VEVENT
BEGIN:VEVENT
DTSTART;TZID=America/Regina:20241113T160000
DTEND;TZID=America/Regina:20241113T170000
DTSTAMP:20260421T080524
CREATED:20241108T205328Z
LAST-MODIFIED:20241108T205328Z
UID:1821-1731513600-1731517200@schools.prairiesouth.ca
SUMMARY:Boys "A" Volleyball
DESCRIPTION:Boys “A” Volleyball- Bronze Medal Game Westmount @ Palliser
URL:https://schools.prairiesouth.ca/sites/westmount/event/boys-a-volleyball-6/
END:VEVENT
BEGIN:VEVENT
DTSTART;VALUE=DATE:20241113
DTEND;VALUE=DATE:20241114
DTSTAMP:20260421T080524
CREATED:20241112T045941Z
LAST-MODIFIED:20241112T045941Z
UID:1827-1731456000-1731542399@schools.prairiesouth.ca
SUMMARY:World Kindness Day
DESCRIPTION:World Kindness Day- with donations to the food bank.
URL:https://schools.prairiesouth.ca/sites/westmount/event/world-kindness-day/
END:VEVENT
BEGIN:VEVENT
DTSTART;VALUE=DATE:20241111
DTEND;VALUE=DATE:20241112
DTSTAMP:20260421T080524
CREATED:20241106T041349Z
LAST-MODIFIED:20241106T041349Z
UID:1802-1731283200-1731369599@schools.prairiesouth.ca
SUMMARY:No School
DESCRIPTION:No School Remembrance Day
URL:https://schools.prairiesouth.ca/sites/westmount/event/no-school-2/
END:VEVENT
BEGIN:VEVENT
DTSTART;VALUE=DATE:20241108
DTEND;VALUE=DATE:20241109
DTSTAMP:20260421T080524
CREATED:20241106T041305Z
LAST-MODIFIED:20241106T041305Z
UID:1800-1731024000-1731110399@schools.prairiesouth.ca
SUMMARY:No School
DESCRIPTION:No School – LIT/Prep Day
URL:https://schools.prairiesouth.ca/sites/westmount/event/no-school/
END:VEVENT
BEGIN:VEVENT
DTSTART;TZID=America/Regina:20241107T101500
DTEND;TZID=America/Regina:20241107T113000
DTSTAMP:20260421T080524
CREATED:20241106T041130Z
LAST-MODIFIED:20241106T041130Z
UID:1796-1730974500-1730979000@schools.prairiesouth.ca
SUMMARY:Remembrance Day Ceremony
DESCRIPTION:Remembrance Day Ceremony
URL:https://schools.prairiesouth.ca/sites/westmount/event/remembrance-day-ceremony/
END:VEVENT
BEGIN:VEVENT
DTSTART;TZID=America/Regina:20241107T090000
DTEND;TZID=America/Regina:20241107T115000
DTSTAMP:20260421T080524
CREATED:20241106T041219Z
LAST-MODIFIED:20241106T041219Z
UID:1798-1730970000-1730980200@schools.prairiesouth.ca
SUMMARY:Last Day of Swimming
DESCRIPTION:Last Day of Swimming
URL:https://schools.prairiesouth.ca/sites/westmount/event/last-day-of-swimming/
END:VEVENT
BEGIN:VEVENT
DTSTART;TZID=America/Regina:20241105T160000
DTEND;TZID=America/Regina:20241105T170000
DTSTAMP:20260421T080524
CREATED:20241106T041003Z
LAST-MODIFIED:20241106T041003Z
UID:1794-1730822400-1730826000@schools.prairiesouth.ca
SUMMARY:Girls "A" Volleyball
DESCRIPTION:Girls “A” Volleyball game at Sunningdale
URL:https://schools.prairiesouth.ca/sites/westmount/event/girls-a-volleyball-5/
END:VEVENT
BEGIN:VEVENT
DTSTART;TZID=America/Regina:20241105T160000
DTEND;TZID=America/Regina:20241105T170000
DTSTAMP:20260421T080524
CREATED:20241106T040910Z
LAST-MODIFIED:20241106T040910Z
UID:1792-1730822400-1730826000@schools.prairiesouth.ca
SUMMARY:Boys "A" Volleyball
DESCRIPTION:Boys “A” Volleyball game at Westmount against King George
URL:https://schools.prairiesouth.ca/sites/westmount/event/boys-a-volleyball-5/
END:VEVENT
BEGIN:VEVENT
DTSTART;TZID=America/Regina:20241030T120000
DTEND;TZID=America/Regina:20241030T150000
DTSTAMP:20260421T080524
CREATED:20241029T154505Z
LAST-MODIFIED:20241029T154505Z
UID:1788-1730289600-1730300400@schools.prairiesouth.ca
SUMMARY:Halloween Safety Presentations
DESCRIPTION:Halloween Safety Presentations- Prek\, K\, Grade 3 afternoon
URL:https://schools.prairiesouth.ca/sites/westmount/event/halloween-safety-presentations-2/
END:VEVENT
BEGIN:VEVENT
DTSTART;TZID=America/Regina:20241029T090000
DTEND;TZID=America/Regina:20241029T120000
DTSTAMP:20260421T080524
CREATED:20241029T153526Z
LAST-MODIFIED:20241029T153526Z
UID:1782-1730192400-1730203200@schools.prairiesouth.ca
SUMMARY:Halloween Safety Presentations
DESCRIPTION:Halloween Safety Presentations-Prek-Grade 2.
URL:https://schools.prairiesouth.ca/sites/westmount/event/halloween-safety-presentations/
END:VEVENT
BEGIN:VEVENT
DTSTART;TZID=America/Regina:20241026T090000
DTEND;TZID=America/Regina:20241026T170000
DTSTAMP:20260421T080524
CREATED:20241021T041722Z
LAST-MODIFIED:20241021T041722Z
UID:1780-1729933200-1729962000@schools.prairiesouth.ca
SUMMARY:Halloween Howl Tournament
DESCRIPTION:Halloween Howl Tournament- 9am-5pm
URL:https://schools.prairiesouth.ca/sites/westmount/event/halloween-howl-tournament-2/
END:VEVENT
BEGIN:VEVENT
DTSTART;TZID=America/Regina:20241025T160000
DTEND;TZID=America/Regina:20241025T190000
DTSTAMP:20260421T080524
CREATED:20241021T041544Z
LAST-MODIFIED:20241021T041544Z
UID:1778-1729872000-1729882800@schools.prairiesouth.ca
SUMMARY:Halloween Howl Tournament
DESCRIPTION:Halloween Howl Tournament-4pm Westmount
URL:https://schools.prairiesouth.ca/sites/westmount/event/halloween-howl-tournament/
END:VEVENT
BEGIN:VEVENT
DTSTART;TZID=America/Regina:20241024T160000
DTEND;TZID=America/Regina:20241024T170000
DTSTAMP:20260421T080524
CREATED:20241021T041426Z
LAST-MODIFIED:20241021T041426Z
UID:1776-1729785600-1729789200@schools.prairiesouth.ca
SUMMARY:Curling Practice
DESCRIPTION:Curling Practice- at the Moose Jaw curling center
URL:https://schools.prairiesouth.ca/sites/westmount/event/curling-practice/
END:VEVENT
BEGIN:VEVENT
DTSTART;TZID=America/Regina:20241024T153000
DTEND;TZID=America/Regina:20241024T170000
DTSTAMP:20260421T080524
CREATED:20241021T041320Z
LAST-MODIFIED:20241021T041320Z
UID:1774-1729783800-1729789200@schools.prairiesouth.ca
SUMMARY:Boys "A" Volleyball
DESCRIPTION:Boys “A” Volleyball- Westmount at Caronport
URL:https://schools.prairiesouth.ca/sites/westmount/event/boys-a-volleyball-4/
END:VEVENT
BEGIN:VEVENT
DTSTART;TZID=America/Regina:20241024T153000
DTEND;TZID=America/Regina:20241024T170000
DTSTAMP:20260421T080524
CREATED:20241021T041205Z
LAST-MODIFIED:20241021T041205Z
UID:1772-1729783800-1729789200@schools.prairiesouth.ca
SUMMARY:Girls "A" Volleyball
DESCRIPTION:Girls “A” Volleyball- Caronport at Westmount
URL:https://schools.prairiesouth.ca/sites/westmount/event/girls-a-volleyball-4/
END:VEVENT
BEGIN:VEVENT
DTSTART;TZID=America/Regina:20241023T153000
DTEND;TZID=America/Regina:20241023T170000
DTSTAMP:20260421T080524
CREATED:20241021T041039Z
LAST-MODIFIED:20241021T041039Z
UID:1770-1729697400-1729702800@schools.prairiesouth.ca
SUMMARY:Girls "B" Volleyball
DESCRIPTION:Girls “B” Volleyball-Lindale at Westmount
URL:https://schools.prairiesouth.ca/sites/westmount/event/girls-b-volleyball-2/
END:VEVENT
BEGIN:VEVENT
DTSTART;TZID=America/Regina:20241023T130000
DTEND;TZID=America/Regina:20241023T150000
DTSTAMP:20260421T080524
CREATED:20241021T040830Z
LAST-MODIFIED:20241021T040830Z
UID:1768-1729688400-1729695600@schools.prairiesouth.ca
SUMMARY:Author Visit
DESCRIPTION:Author Visit-Christie Jordan-Fenton
URL:https://schools.prairiesouth.ca/sites/westmount/event/author-visit/
END:VEVENT
BEGIN:VEVENT
DTSTART;TZID=America/Regina:20241022T153000
DTEND;TZID=America/Regina:20241022T170000
DTSTAMP:20260421T080524
CREATED:20241021T040701Z
LAST-MODIFIED:20241021T040701Z
UID:1766-1729611000-1729616400@schools.prairiesouth.ca
SUMMARY:Boys "A" Volleyball
DESCRIPTION:Boys “A” Volleyball-Sunningdale at Westmount
URL:https://schools.prairiesouth.ca/sites/westmount/event/boys-a-volleyball-3/
END:VEVENT
BEGIN:VEVENT
DTSTART;TZID=America/Regina:20241017T153000
DTEND;TZID=America/Regina:20241017T170000
DTSTAMP:20260421T080524
CREATED:20241017T013738Z
LAST-MODIFIED:20241017T013738Z
UID:1764-1729179000-1729184400@schools.prairiesouth.ca
SUMMARY:Boys "A" Volleyball
DESCRIPTION:Boys “A” Volleyball- Lindale at Westmount
URL:https://schools.prairiesouth.ca/sites/westmount/event/boys-a-volleyball-2/
END:VEVENT
BEGIN:VEVENT
DTSTART;TZID=America/Regina:20241017T153000
DTEND;TZID=America/Regina:20241017T170000
DTSTAMP:20260421T080524
CREATED:20241017T013642Z
LAST-MODIFIED:20241017T013642Z
UID:1762-1729179000-1729184400@schools.prairiesouth.ca
SUMMARY:Girls "A" Volleyball
DESCRIPTION:Girls “A” Volleyball- Westmount at Lindale
URL:https://schools.prairiesouth.ca/sites/westmount/event/girls-a-volleyball-3/
END:VEVENT
BEGIN:VEVENT
DTSTART;TZID=America/Regina:20241017T090000
DTEND;TZID=America/Regina:20241017T153000
DTSTAMP:20260421T080524
CREATED:20241015T043213Z
LAST-MODIFIED:20241015T043213Z
UID:1760-1729155600-1729179000@schools.prairiesouth.ca
SUMMARY:School Picture Day-Kindergarten\, Grades 4-8
DESCRIPTION:School Picture Day-Kindergarten\, Grades 4-8
URL:https://schools.prairiesouth.ca/sites/westmount/event/school-picture-day-kindergarten-grades-4-8/
END:VEVENT
BEGIN:VEVENT
DTSTART;TZID=America/Regina:20241016T090000
DTEND;TZID=America/Regina:20241016T153000
DTSTAMP:20260421T080524
CREATED:20241015T043059Z
LAST-MODIFIED:20241015T043059Z
UID:1757-1729069200-1729092600@schools.prairiesouth.ca
SUMMARY:School Picture Day- Pre-k-Grade 3
DESCRIPTION:School Picture Day – Pre-k-Grade 3
URL:https://schools.prairiesouth.ca/sites/westmount/event/school-picture-day-pre-k-grade-3/
END:VEVENT
BEGIN:VEVENT
DTSTART;VALUE=DATE:20241014
DTEND;VALUE=DATE:20241015
DTSTAMP:20260421T080524
CREATED:20241007T195552Z
LAST-MODIFIED:20241007T195723Z
UID:1751-1728864000-1728950399@schools.prairiesouth.ca
SUMMARY:No School Oct 14th
DESCRIPTION:No School Oct 14- Thanksgiving!
URL:https://schools.prairiesouth.ca/sites/westmount/event/no-school-oct-11th/
END:VEVENT
BEGIN:VEVENT
DTSTART;VALUE=DATE:20241011
DTEND;VALUE=DATE:20241012
DTSTAMP:20260421T080524
CREATED:20241007T195818Z
LAST-MODIFIED:20241007T195818Z
UID:1755-1728604800-1728691199@schools.prairiesouth.ca
SUMMARY:No School Oct 11th
DESCRIPTION:No School Oct 11th- Teacher Prep Day.
URL:https://schools.prairiesouth.ca/sites/westmount/event/no-school-oct-11th-2/
END:VEVENT
BEGIN:VEVENT
DTSTART;TZID=America/Regina:20241010T154500
DTEND;TZID=America/Regina:20241010T170000
DTSTAMP:20260421T080524
CREATED:20241007T143610Z
LAST-MODIFIED:20241007T143610Z
UID:1742-1728575100-1728579600@schools.prairiesouth.ca
SUMMARY:Girls "A" Volleyball
DESCRIPTION:Girls “A” Volleyball- Palliser Heights at Westmount.
URL:https://schools.prairiesouth.ca/sites/westmount/event/girls-a-volleyball-2/
END:VEVENT
BEGIN:VEVENT
DTSTART;TZID=America/Regina:20241008T154500
DTEND;TZID=America/Regina:20241008T170000
DTSTAMP:20260421T080524
CREATED:20241007T143453Z
LAST-MODIFIED:20241007T143453Z
UID:1740-1728402300-1728406800@schools.prairiesouth.ca
SUMMARY:Girls "A" Volleyball
DESCRIPTION:Girls “A” Volleyball- Sunningdale at Westmount
URL:https://schools.prairiesouth.ca/sites/westmount/event/girls-a-volleyball/
END:VEVENT
END:VCALENDAR