BEGIN:VCALENDAR
VERSION:2.0
PRODID:-//Westmount Elementary School - ECPv6.15.20//NONSGML v1.0//EN
CALSCALE:GREGORIAN
METHOD:PUBLISH
X-ORIGINAL-URL:https://schools.prairiesouth.ca/sites/westmount
X-WR-CALDESC:Events for Westmount Elementary School
REFRESH-INTERVAL;VALUE=DURATION:PT1H
X-Robots-Tag:noindex
X-PUBLISHED-TTL:PT1H
BEGIN:VTIMEZONE
TZID:America/Regina
BEGIN:STANDARD
TZOFFSETFROM:-0600
TZOFFSETTO:-0600
TZNAME:CST
DTSTART:20240101T000000
END:STANDARD
END:VTIMEZONE
BEGIN:VEVENT
DTSTART;VALUE=DATE:20250514
DTEND;VALUE=DATE:20250515
DTSTAMP:20260420T172220
CREATED:20250512T044113Z
LAST-MODIFIED:20250512T044113Z
UID:2117-1747180800-1747267199@schools.prairiesouth.ca
SUMMARY:Heritage Fair
DESCRIPTION:Heritage Fair @ Western Development Museum
URL:https://schools.prairiesouth.ca/sites/westmount/event/heritage-fair-3/
END:VEVENT
BEGIN:VEVENT
DTSTART;TZID=America/Regina:20250512T160000
DTEND;TZID=America/Regina:20250512T170000
DTSTAMP:20260420T172220
CREATED:20250512T044007Z
LAST-MODIFIED:20250512T044007Z
UID:2115-1747065600-1747069200@schools.prairiesouth.ca
SUMMARY:Dodgeball
DESCRIPTION:Dodgeball @ Westmount
URL:https://schools.prairiesouth.ca/sites/westmount/event/dodgeball-4/
END:VEVENT
BEGIN:VEVENT
DTSTART;TZID=America/Regina:20250508T161500
DTEND;TZID=America/Regina:20250508T191500
DTSTAMP:20260420T172220
CREATED:20250505T024538Z
LAST-MODIFIED:20250505T024538Z
UID:2111-1746720900-1746731700@schools.prairiesouth.ca
SUMMARY:Doubles Year end Tournament Peacock
DESCRIPTION:Doubles Year end Tournament @ Peacock
URL:https://schools.prairiesouth.ca/sites/westmount/event/doubles-year-end-tournament-peacock/
END:VEVENT
BEGIN:VEVENT
DTSTART;TZID=America/Regina:20250506T161500
DTEND;TZID=America/Regina:20250506T191500
DTSTAMP:20260420T172220
CREATED:20250505T024351Z
LAST-MODIFIED:20250505T024351Z
UID:2109-1746548100-1746558900@schools.prairiesouth.ca
SUMMARY:Badminton Singles Year End Tournament Peacock
DESCRIPTION:Badminton Singles Year End Tournament @ Peacock School
URL:https://schools.prairiesouth.ca/sites/westmount/event/badminton-singles-year-end-tournament-peacock/
END:VEVENT
BEGIN:VEVENT
DTSTART;TZID=America/Regina:20250506T093000
DTEND;TZID=America/Regina:20250506T150000
DTSTAMP:20260420T172220
CREATED:20250505T024207Z
LAST-MODIFIED:20250505T024207Z
UID:2107-1746523800-1746543600@schools.prairiesouth.ca
SUMMARY:Wellness day Grade 4-8
DESCRIPTION:Wellness day Gr. 4-8 Activities focusing on total wellness.
URL:https://schools.prairiesouth.ca/sites/westmount/event/wellness-day-grade-4-8/
END:VEVENT
BEGIN:VEVENT
DTSTART;TZID=America/Regina:20250505T160000
DTEND;TZID=America/Regina:20250505T170000
DTSTAMP:20260420T172220
CREATED:20250505T023916Z
LAST-MODIFIED:20250505T023916Z
UID:2103-1746460800-1746464400@schools.prairiesouth.ca
SUMMARY:Dodgeball
DESCRIPTION:Dodgeball @ Westmount
URL:https://schools.prairiesouth.ca/sites/westmount/event/dodgeball-3/
END:VEVENT
BEGIN:VEVENT
DTSTART;TZID=America/Regina:20250505T090000
DTEND;TZID=America/Regina:20250505T150000
DTSTAMP:20260420T172220
CREATED:20250505T024051Z
LAST-MODIFIED:20250505T024051Z
UID:2105-1746435600-1746457200@schools.prairiesouth.ca
SUMMARY:Wellness day Prek-Grade 3
DESCRIPTION:Wellness day Prek-Gr. 3- A variety of activities focusing on Wellness for the whole body.
URL:https://schools.prairiesouth.ca/sites/westmount/event/wellness-day-prek-grade-3/
END:VEVENT
BEGIN:VEVENT
DTSTART;TZID=America/Regina:20250501T160000
DTEND;TZID=America/Regina:20250501T170000
DTSTAMP:20260420T172220
CREATED:20250428T044809Z
LAST-MODIFIED:20250428T044809Z
UID:2098-1746115200-1746118800@schools.prairiesouth.ca
SUMMARY:Badminton Game
DESCRIPTION:Badminton Singles @ Westmount\, Doubles @ William Grayson
URL:https://schools.prairiesouth.ca/sites/westmount/event/badminton-game-5/
END:VEVENT
BEGIN:VEVENT
DTSTART;TZID=America/Regina:20250430T153000
DTEND;TZID=America/Regina:20250430T170000
DTSTAMP:20260420T172220
CREATED:20250428T044710Z
LAST-MODIFIED:20250428T044710Z
UID:2096-1746027000-1746032400@schools.prairiesouth.ca
SUMMARY:Badminton Practice
DESCRIPTION:Badminton Practice
URL:https://schools.prairiesouth.ca/sites/westmount/event/badminton-practice-6/
END:VEVENT
BEGIN:VEVENT
DTSTART;TZID=America/Regina:20250429T160000
DTEND;TZID=America/Regina:20250429T170000
DTSTAMP:20260420T172220
CREATED:20250428T044620Z
LAST-MODIFIED:20250428T044620Z
UID:2094-1745942400-1745946000@schools.prairiesouth.ca
SUMMARY:Tuesday Badminton Games
DESCRIPTION:Badminton Singles @ Empire\, Doubles @ Westmount
URL:https://schools.prairiesouth.ca/sites/westmount/event/tuesday-badminton-games/
END:VEVENT
BEGIN:VEVENT
DTSTART;VALUE=DATE:20250428
DTEND;VALUE=DATE:20250429
DTSTAMP:20260420T172220
CREATED:20250428T044524Z
LAST-MODIFIED:20250428T044524Z
UID:2092-1745798400-1745884799@schools.prairiesouth.ca
SUMMARY:Federal Election Site
DESCRIPTION:Westmount Gym Federal Election Site
URL:https://schools.prairiesouth.ca/sites/westmount/event/federal-election-site/
END:VEVENT
BEGIN:VEVENT
DTSTART;VALUE=DATE:20250428
DTEND;VALUE=DATE:20250429
DTSTAMP:20260420T172220
CREATED:20250428T044446Z
LAST-MODIFIED:20250428T044446Z
UID:2090-1745798400-1745884799@schools.prairiesouth.ca
SUMMARY:First Day Back
DESCRIPTION:First Day Back
URL:https://schools.prairiesouth.ca/sites/westmount/event/first-day-back-2/
END:VEVENT
BEGIN:VEVENT
DTSTART;VALUE=DATE:20250418
DTEND;VALUE=DATE:20250419
DTSTAMP:20260420T172220
CREATED:20250414T043843Z
LAST-MODIFIED:20250414T043843Z
UID:2071-1744934400-1745020799@schools.prairiesouth.ca
SUMMARY:Easter Friday
DESCRIPTION:Easter Friday
URL:https://schools.prairiesouth.ca/sites/westmount/event/easter-friday/
END:VEVENT
BEGIN:VEVENT
DTSTART;TZID=America/Regina:20250417T090000
DTEND;TZID=America/Regina:20250417T153000
DTSTAMP:20260420T172220
CREATED:20250414T143010Z
LAST-MODIFIED:20250414T143010Z
UID:2086-1744880400-1744903800@schools.prairiesouth.ca
SUMMARY:Hat Day
DESCRIPTION:Hat Day
URL:https://schools.prairiesouth.ca/sites/westmount/event/hat-day/
END:VEVENT
BEGIN:VEVENT
DTSTART;TZID=America/Regina:20250417T090000
DTEND;TZID=America/Regina:20250417T153000
DTSTAMP:20260420T172220
CREATED:20250414T142936Z
LAST-MODIFIED:20250414T142936Z
UID:2084-1744880400-1744903800@schools.prairiesouth.ca
SUMMARY:PJ Day
DESCRIPTION:PJ Day
URL:https://schools.prairiesouth.ca/sites/westmount/event/pj-day/
END:VEVENT
BEGIN:VEVENT
DTSTART;TZID=America/Regina:20250417T080000
DTEND;TZID=America/Regina:20250417T153000
DTSTAMP:20260420T172220
CREATED:20250414T043925Z
LAST-MODIFIED:20250414T043925Z
UID:2073-1744876800-1744903800@schools.prairiesouth.ca
SUMMARY:Last Day of Classes
DESCRIPTION:Last day of classes
URL:https://schools.prairiesouth.ca/sites/westmount/event/last-day-of-classes/
END:VEVENT
BEGIN:VEVENT
DTSTART;TZID=America/Regina:20250416T090000
DTEND;TZID=America/Regina:20250416T153000
DTSTAMP:20260420T172220
CREATED:20250414T142905Z
LAST-MODIFIED:20250414T142905Z
UID:2082-1744794000-1744817400@schools.prairiesouth.ca
SUMMARY:Secret Class Day
DESCRIPTION:Secret Class Day
URL:https://schools.prairiesouth.ca/sites/westmount/event/secret-class-day/
END:VEVENT
BEGIN:VEVENT
DTSTART;TZID=America/Regina:20250415T183000
DTEND;TZID=America/Regina:20250415T200000
DTSTAMP:20260420T172220
CREATED:20250414T043625Z
LAST-MODIFIED:20250414T043625Z
UID:2067-1744741800-1744747200@schools.prairiesouth.ca
SUMMARY:Talent Show
DESCRIPTION:Talen Show @ Westmount
URL:https://schools.prairiesouth.ca/sites/westmount/event/talent-show/
END:VEVENT
BEGIN:VEVENT
DTSTART;TZID=America/Regina:20250415T090000
DTEND;TZID=America/Regina:20250415T153000
DTSTAMP:20260420T172220
CREATED:20250414T142758Z
LAST-MODIFIED:20250414T142758Z
UID:2080-1744707600-1744731000@schools.prairiesouth.ca
SUMMARY:Wacky Hair Day
DESCRIPTION:Wacky Hair Day
URL:https://schools.prairiesouth.ca/sites/westmount/event/wacky-hair-day/
END:VEVENT
BEGIN:VEVENT
DTSTART;TZID=America/Regina:20250414T160000
DTEND;TZID=America/Regina:20250414T170000
DTSTAMP:20260420T172220
CREATED:20250414T043756Z
LAST-MODIFIED:20250414T043756Z
UID:2069-1744646400-1744650000@schools.prairiesouth.ca
SUMMARY:Badminton
DESCRIPTION:Badminton Singles @ Prince Author Doubles @ Westmount
URL:https://schools.prairiesouth.ca/sites/westmount/event/badminton-2/
END:VEVENT
BEGIN:VEVENT
DTSTART;TZID=America/Regina:20250414T160000
DTEND;TZID=America/Regina:20250414T170000
DTSTAMP:20260420T172220
CREATED:20250414T043510Z
LAST-MODIFIED:20250414T043510Z
UID:2065-1744646400-1744650000@schools.prairiesouth.ca
SUMMARY:Dodgeball
DESCRIPTION:Dodgeball @ Westmount school
URL:https://schools.prairiesouth.ca/sites/westmount/event/dodgeball-2/
END:VEVENT
BEGIN:VEVENT
DTSTART;TZID=America/Regina:20250414T090000
DTEND;TZID=America/Regina:20250417T153000
DTSTAMP:20260420T172220
CREATED:20250414T142550Z
LAST-MODIFIED:20250414T142550Z
UID:2076-1744621200-1744903800@schools.prairiesouth.ca
SUMMARY:Spirit Week
DESCRIPTION:Spirit Week
URL:https://schools.prairiesouth.ca/sites/westmount/event/spirit-week/
END:VEVENT
BEGIN:VEVENT
DTSTART;TZID=America/Regina:20250414T090000
DTEND;TZID=America/Regina:20250414T153000
DTSTAMP:20260420T172220
CREATED:20250414T142647Z
LAST-MODIFIED:20250414T142647Z
UID:2078-1744621200-1744644600@schools.prairiesouth.ca
SUMMARY:Twin Day
DESCRIPTION:Twin Day-Dress alike with a partner
URL:https://schools.prairiesouth.ca/sites/westmount/event/twin-day/
END:VEVENT
BEGIN:VEVENT
DTSTART;TZID=America/Regina:20250411T090000
DTEND;TZID=America/Regina:20250411T120000
DTSTAMP:20260420T172220
CREATED:20250407T020756Z
LAST-MODIFIED:20250407T020756Z
UID:2061-1744362000-1744372800@schools.prairiesouth.ca
SUMMARY:Pre-K Family Friday
DESCRIPTION:Pre-K Family Friday
URL:https://schools.prairiesouth.ca/sites/westmount/event/pre-k-family-friday/
END:VEVENT
BEGIN:VEVENT
DTSTART;TZID=America/Regina:20250410T124000
DTEND;TZID=America/Regina:20250410T151500
DTSTAMP:20260420T172220
CREATED:20250407T020545Z
LAST-MODIFIED:20250407T020545Z
UID:2059-1744288800-1744298100@schools.prairiesouth.ca
SUMMARY:Heritage Fair
DESCRIPTION:Heritage Fair 12:40-3:15pm.
URL:https://schools.prairiesouth.ca/sites/westmount/event/heritage-fair-2/
END:VEVENT
BEGIN:VEVENT
DTSTART;TZID=America/Regina:20250409T180000
DTEND;TZID=America/Regina:20250409T200000
DTSTAMP:20260420T172220
CREATED:20250407T020433Z
LAST-MODIFIED:20250407T020433Z
UID:2057-1744221600-1744228800@schools.prairiesouth.ca
SUMMARY:SCC AGM Meeting
DESCRIPTION:SCC Annual General Meeting and elections
URL:https://schools.prairiesouth.ca/sites/westmount/event/scc-agm-meeting/
END:VEVENT
BEGIN:VEVENT
DTSTART;TZID=America/Regina:20250408T180000
DTEND;TZID=America/Regina:20250408T210000
DTSTAMP:20260420T172220
CREATED:20250407T020315Z
LAST-MODIFIED:20250407T020315Z
UID:2054-1744135200-1744146000@schools.prairiesouth.ca
SUMMARY:Mindful Matters Evening
DESCRIPTION:Mindful Matters- 6pm-9pm
URL:https://schools.prairiesouth.ca/sites/westmount/event/mindful-matters-evening/
END:VEVENT
BEGIN:VEVENT
DTSTART;TZID=America/Regina:20250408T160000
DTEND;TZID=America/Regina:20250408T170000
DTSTAMP:20260420T172220
CREATED:20250407T020022Z
LAST-MODIFIED:20250407T020022Z
UID:2048-1744128000-1744131600@schools.prairiesouth.ca
SUMMARY:Badminton
DESCRIPTION:Badminton Singles @ Westmount\, Doubles @ Sunningdale
URL:https://schools.prairiesouth.ca/sites/westmount/event/badminton/
END:VEVENT
BEGIN:VEVENT
DTSTART;TZID=America/Regina:20250407T160000
DTEND;TZID=America/Regina:20250407T170000
DTSTAMP:20260420T172220
CREATED:20250407T015902Z
LAST-MODIFIED:20250407T015902Z
UID:2046-1744041600-1744045200@schools.prairiesouth.ca
SUMMARY:Dodgeball
DESCRIPTION:Grade 5 Dodgeball @Westmount
URL:https://schools.prairiesouth.ca/sites/westmount/event/dodgeball/
END:VEVENT
BEGIN:VEVENT
DTSTART;VALUE=DATE:20250407
DTEND;VALUE=DATE:20250412
DTSTAMP:20260420T172220
CREATED:20250407T020214Z
LAST-MODIFIED:20250407T020214Z
UID:2052-1743984000-1744415999@schools.prairiesouth.ca
SUMMARY:Cereal Donation
DESCRIPTION:Generosity Club-Cereal Donations
URL:https://schools.prairiesouth.ca/sites/westmount/event/cereal-donation/
END:VEVENT
END:VCALENDAR