BEGIN:VCALENDAR
VERSION:2.0
PRODID:-//Westmount Elementary School - ECPv6.15.20//NONSGML v1.0//EN
CALSCALE:GREGORIAN
METHOD:PUBLISH
X-WR-CALNAME:Westmount Elementary School
X-ORIGINAL-URL:https://schools.prairiesouth.ca/sites/westmount
X-WR-CALDESC:Events for Westmount Elementary School
REFRESH-INTERVAL;VALUE=DURATION:PT1H
X-Robots-Tag:noindex
X-PUBLISHED-TTL:PT1H
BEGIN:VTIMEZONE
TZID:America/Regina
BEGIN:STANDARD
TZOFFSETFROM:-0600
TZOFFSETTO:-0600
TZNAME:CST
DTSTART:20240101T000000
END:STANDARD
END:VTIMEZONE
BEGIN:VEVENT
DTSTART;TZID=America/Regina:20250326T160000
DTEND;TZID=America/Regina:20250326T193000
DTSTAMP:20260420T222925
CREATED:20250324T050643Z
LAST-MODIFIED:20250324T050643Z
UID:2030-1743004800-1743017400@schools.prairiesouth.ca
SUMMARY:Student-Led Celebration
DESCRIPTION:Student-Led Celebration of learning
URL:https://schools.prairiesouth.ca/sites/westmount/event/student-led-celebration/
END:VEVENT
BEGIN:VEVENT
DTSTART;VALUE=DATE:20250326
DTEND;VALUE=DATE:20250327
DTSTAMP:20260420T222925
CREATED:20250324T050415Z
LAST-MODIFIED:20250324T050415Z
UID:2024-1742947200-1743033599@schools.prairiesouth.ca
SUMMARY:Book Fair
DESCRIPTION:Book Fair
URL:https://schools.prairiesouth.ca/sites/westmount/event/book-fair-4/
END:VEVENT
BEGIN:VEVENT
DTSTART;VALUE=DATE:20250325
DTEND;VALUE=DATE:20250326
DTSTAMP:20260420T222925
CREATED:20250324T050338Z
LAST-MODIFIED:20250324T050338Z
UID:2022-1742860800-1742947199@schools.prairiesouth.ca
SUMMARY:Book Fair
DESCRIPTION:Book Fair
URL:https://schools.prairiesouth.ca/sites/westmount/event/book-fair-3/
END:VEVENT
BEGIN:VEVENT
DTSTART;VALUE=DATE:20250324
DTEND;VALUE=DATE:20250325
DTSTAMP:20260420T222925
CREATED:20250324T050254Z
LAST-MODIFIED:20250324T050254Z
UID:2020-1742774400-1742860799@schools.prairiesouth.ca
SUMMARY:Book Fair
DESCRIPTION:Book Fair begins and runs until March 27th.
URL:https://schools.prairiesouth.ca/sites/westmount/event/book-fair-2/
END:VEVENT
BEGIN:VEVENT
DTSTART;TZID=America/Regina:20250319T154000
DTEND;TZID=America/Regina:20250319T170000
DTSTAMP:20260420T222925
CREATED:20250317T012355Z
LAST-MODIFIED:20250317T012355Z
UID:2015-1742398800-1742403600@schools.prairiesouth.ca
SUMMARY:Badminton Practice
DESCRIPTION:Badminton Practice 3:40-5:00pm
URL:https://schools.prairiesouth.ca/sites/westmount/event/badminton-practice-5/
END:VEVENT
BEGIN:VEVENT
DTSTART;VALUE=DATE:20250314
DTEND;VALUE=DATE:20250315
DTSTAMP:20260420T222925
CREATED:20250310T041932Z
LAST-MODIFIED:20250310T041932Z
UID:2011-1741910400-1741996799@schools.prairiesouth.ca
SUMMARY:No School
DESCRIPTION:No School- Prep/Lit day
URL:https://schools.prairiesouth.ca/sites/westmount/event/no-school-4/
END:VEVENT
BEGIN:VEVENT
DTSTART;TZID=America/Regina:20250310T194500
DTEND;TZID=America/Regina:20250310T210000
DTSTAMP:20260420T222925
CREATED:20250310T041843Z
LAST-MODIFIED:20250310T041843Z
UID:2009-1741635900-1741640400@schools.prairiesouth.ca
SUMMARY:Boys "A" Basketball Final
DESCRIPTION:Boys “A” Basketball Final @ Peacock 7:45pm
URL:https://schools.prairiesouth.ca/sites/westmount/event/boys-a-basketball-final/
END:VEVENT
BEGIN:VEVENT
DTSTART;TZID=America/Regina:20250306T160000
DTEND;TZID=America/Regina:20250306T170000
DTSTAMP:20260420T222925
CREATED:20250303T030258Z
LAST-MODIFIED:20250303T030258Z
UID:2001-1741276800-1741280400@schools.prairiesouth.ca
SUMMARY:Basketball Playoffs
DESCRIPTION:Basketball Playoffs Boys at William Grayson\, Girls at Lindale
URL:https://schools.prairiesouth.ca/sites/westmount/event/basketball-playoffs/
END:VEVENT
BEGIN:VEVENT
DTSTART;TZID=America/Regina:20250305T170000
DTEND;TZID=America/Regina:20250305T200000
DTSTAMP:20260420T222925
CREATED:20250303T030032Z
LAST-MODIFIED:20250303T030032Z
UID:1999-1741194000-1741204800@schools.prairiesouth.ca
SUMMARY:Moose Jaw High School Visits
DESCRIPTION:Moose Jaw High School Visits- Central\, Peacock\, Riverview
URL:https://schools.prairiesouth.ca/sites/westmount/event/moose-jaw-high-school-visits/
END:VEVENT
BEGIN:VEVENT
DTSTART;TZID=America/Regina:20250228T080000
DTEND;TZID=America/Regina:20250228T160000
DTSTAMP:20260420T222925
CREATED:20250224T030754Z
LAST-MODIFIED:20250224T030754Z
UID:1995-1740729600-1740758400@schools.prairiesouth.ca
SUMMARY:Grade 7/8 Ski Trip
DESCRIPTION:Grade 7/8 Ski Trip- Grade 7/8s are going to Mission Ridge for the day.
URL:https://schools.prairiesouth.ca/sites/westmount/event/grade-7-8-ski-trip/
END:VEVENT
BEGIN:VEVENT
DTSTART;TZID=America/Regina:20250226T090000
DTEND;TZID=America/Regina:20250226T153000
DTSTAMP:20260420T222925
CREATED:20250224T030647Z
LAST-MODIFIED:20250224T030647Z
UID:1993-1740560400-1740583800@schools.prairiesouth.ca
SUMMARY:Pink Day
DESCRIPTION:Pink day-Wear Pink to show your support against bullying.
URL:https://schools.prairiesouth.ca/sites/westmount/event/pink-day/
END:VEVENT
BEGIN:VEVENT
DTSTART;VALUE=DATE:20250224
DTEND;VALUE=DATE:20250225
DTSTAMP:20260420T222925
CREATED:20250224T030901Z
LAST-MODIFIED:20250224T030901Z
UID:1997-1740355200-1740441599@schools.prairiesouth.ca
SUMMARY:First Day Back
DESCRIPTION:First Day Back- Welcome Back!
URL:https://schools.prairiesouth.ca/sites/westmount/event/first-day-back/
END:VEVENT
BEGIN:VEVENT
DTSTART;VALUE=DATE:20250214
DTEND;VALUE=DATE:20250215
DTSTAMP:20260420T222925
CREATED:20250210T154430Z
LAST-MODIFIED:20250210T154430Z
UID:1988-1739491200-1739577599@schools.prairiesouth.ca
SUMMARY:Valentine's Day
DESCRIPTION:Valentine’s Day
URL:https://schools.prairiesouth.ca/sites/westmount/event/valentines-day/
END:VEVENT
BEGIN:VEVENT
DTSTART;TZID=America/Regina:20250213T160000
DTEND;TZID=America/Regina:20250213T170000
DTSTAMP:20260420T222925
CREATED:20250210T154339Z
LAST-MODIFIED:20250210T154339Z
UID:1986-1739462400-1739466000@schools.prairiesouth.ca
SUMMARY:Girls "A" Basketball Game
DESCRIPTION:Girls “A” Basketball Game – Westmount @ Lindale
URL:https://schools.prairiesouth.ca/sites/westmount/event/girls-a-basketball-game-6/
END:VEVENT
BEGIN:VEVENT
DTSTART;TZID=America/Regina:20250213T160000
DTEND;TZID=America/Regina:20250213T170000
DTSTAMP:20260420T222925
CREATED:20250210T154221Z
LAST-MODIFIED:20250210T154221Z
UID:1984-1739462400-1739466000@schools.prairiesouth.ca
SUMMARY:Boys "A" Basketball Game
DESCRIPTION:Boys “A” Basketball Game- William Grayson @ Westmount
URL:https://schools.prairiesouth.ca/sites/westmount/event/boys-a-basketball-game-5/
END:VEVENT
BEGIN:VEVENT
DTSTART;TZID=America/Regina:20250212T120000
DTEND;TZID=America/Regina:20250212T170000
DTSTAMP:20260420T222925
CREATED:20250210T153038Z
LAST-MODIFIED:20250210T153038Z
UID:1980-1739361600-1739379600@schools.prairiesouth.ca
SUMMARY:Year End Curling Bonspiel
DESCRIPTION:Year End Curling Bonspiel- Moose Jaw Curling Center
URL:https://schools.prairiesouth.ca/sites/westmount/event/year-end-curling-bonspiel/
END:VEVENT
BEGIN:VEVENT
DTSTART;TZID=America/Regina:20250211T160000
DTEND;TZID=America/Regina:20250211T170000
DTSTAMP:20260420T222925
CREATED:20250210T153309Z
LAST-MODIFIED:20250210T153309Z
UID:1982-1739289600-1739293200@schools.prairiesouth.ca
SUMMARY:Girls "A" Basketball Game
DESCRIPTION:Girls “A” Basketball game- Palliser Heights @ Westmount
URL:https://schools.prairiesouth.ca/sites/westmount/event/girls-a-basketball-game-4/
END:VEVENT
BEGIN:VEVENT
DTSTART;VALUE=DATE:20250211
DTEND;VALUE=DATE:20250212
DTSTAMP:20260420T222925
CREATED:20250210T152838Z
LAST-MODIFIED:20250210T152838Z
UID:1978-1739232000-1739318399@schools.prairiesouth.ca
SUMMARY:100 Days Activities
DESCRIPTION:100 Days Activities- Celebrating 100 days of school!
URL:https://schools.prairiesouth.ca/sites/westmount/event/100-days-activities/
END:VEVENT
BEGIN:VEVENT
DTSTART;VALUE=DATE:20250210
DTEND;VALUE=DATE:20250215
DTSTAMP:20260420T222925
CREATED:20250210T152739Z
LAST-MODIFIED:20250210T152739Z
UID:1976-1739145600-1739577599@schools.prairiesouth.ca
SUMMARY:Staff Appreciation Week
DESCRIPTION:Staff Appreciation Week- Say thank you to a teacher !
URL:https://schools.prairiesouth.ca/sites/westmount/event/staff-appreciation-week-2/
END:VEVENT
BEGIN:VEVENT
DTSTART;TZID=America/Regina:20250207T190000
DTEND;TZID=America/Regina:20250207T200000
DTSTAMP:20260420T222925
CREATED:20250203T043853Z
LAST-MODIFIED:20250203T044101Z
UID:1968-1738954800-1738958400@schools.prairiesouth.ca
SUMMARY:Harmony Arts Play Performance
DESCRIPTION:Harmony Arts Play Performance @7pm
URL:https://schools.prairiesouth.ca/sites/westmount/event/harmony-arts-play-performance/
END:VEVENT
BEGIN:VEVENT
DTSTART;TZID=America/Regina:20250206T160000
DTEND;TZID=America/Regina:20250206T170000
DTSTAMP:20260420T222925
CREATED:20250203T043953Z
LAST-MODIFIED:20250203T043953Z
UID:1970-1738857600-1738861200@schools.prairiesouth.ca
SUMMARY:Curling
DESCRIPTION:Curling
URL:https://schools.prairiesouth.ca/sites/westmount/event/curling-6/
END:VEVENT
BEGIN:VEVENT
DTSTART;TZID=America/Regina:20250206T151500
DTEND;TZID=America/Regina:20250206T173000
DTSTAMP:20260420T222925
CREATED:20250203T043738Z
LAST-MODIFIED:20250203T043738Z
UID:1966-1738854900-1738863000@schools.prairiesouth.ca
SUMMARY:Harmony Arts Play Practice
DESCRIPTION:Harmony Arts Play Practice
URL:https://schools.prairiesouth.ca/sites/westmount/event/harmony-arts-play-practice-6/
END:VEVENT
BEGIN:VEVENT
DTSTART;TZID=America/Regina:20250205T151500
DTEND;TZID=America/Regina:20250205T173000
DTSTAMP:20260420T222925
CREATED:20250203T043631Z
LAST-MODIFIED:20250203T043631Z
UID:1964-1738768500-1738776600@schools.prairiesouth.ca
SUMMARY:Harmony Arts Play Practice
DESCRIPTION:Harmony Arts Play Practice
URL:https://schools.prairiesouth.ca/sites/westmount/event/harmony-arts-play-practice-5/
END:VEVENT
BEGIN:VEVENT
DTSTART;TZID=America/Regina:20250204T160000
DTEND;TZID=America/Regina:20250204T170000
DTSTAMP:20260420T222925
CREATED:20250203T043536Z
LAST-MODIFIED:20250203T043536Z
UID:1962-1738684800-1738688400@schools.prairiesouth.ca
SUMMARY:Boys "A" Basketball Game
DESCRIPTION:Boys “A” Basketball Game- Westmount @ King George
URL:https://schools.prairiesouth.ca/sites/westmount/event/boys-a-basketball-game-4/
END:VEVENT
BEGIN:VEVENT
DTSTART;TZID=America/Regina:20250204T151500
DTEND;TZID=America/Regina:20250204T173000
DTSTAMP:20260420T222925
CREATED:20250203T043441Z
LAST-MODIFIED:20250203T043441Z
UID:1960-1738682100-1738690200@schools.prairiesouth.ca
SUMMARY:Harmony Arts Play Practice
DESCRIPTION:Harmony Arts Play Practice
URL:https://schools.prairiesouth.ca/sites/westmount/event/harmony-arts-play-practice-4/
END:VEVENT
BEGIN:VEVENT
DTSTART;TZID=America/Regina:20250203T151500
DTEND;TZID=America/Regina:20250203T173000
DTSTAMP:20260420T222925
CREATED:20250203T043353Z
LAST-MODIFIED:20250203T043353Z
UID:1958-1738595700-1738603800@schools.prairiesouth.ca
SUMMARY:Harmony Arts Play Practice
DESCRIPTION:Harmony Arts Play Practice
URL:https://schools.prairiesouth.ca/sites/westmount/event/harmony-arts-play-practice-3/
END:VEVENT
BEGIN:VEVENT
DTSTART;VALUE=DATE:20250131
DTEND;VALUE=DATE:20250201
DTSTAMP:20260420T222925
CREATED:20250127T042837Z
LAST-MODIFIED:20250127T042837Z
UID:1946-1738281600-1738367999@schools.prairiesouth.ca
SUMMARY:No School For Students
DESCRIPTION:No School For Students
URL:https://schools.prairiesouth.ca/sites/westmount/event/no-school-for-students/
END:VEVENT
BEGIN:VEVENT
DTSTART;TZID=America/Regina:20250130T160000
DTEND;TZID=America/Regina:20250130T173000
DTSTAMP:20260420T222925
CREATED:20250127T043015Z
LAST-MODIFIED:20250127T043015Z
UID:1948-1738252800-1738258200@schools.prairiesouth.ca
SUMMARY:Girls "A" Basketball Game
DESCRIPTION:Girls “A” Basketball Game- Westmount @ Palliser
URL:https://schools.prairiesouth.ca/sites/westmount/event/girls-a-basketball-game-5/
END:VEVENT
BEGIN:VEVENT
DTSTART;TZID=America/Regina:20250130T160000
DTEND;TZID=America/Regina:20250130T170000
DTSTAMP:20260420T222925
CREATED:20250129T042221Z
LAST-MODIFIED:20250129T042221Z
UID:1956-1738252800-1738256400@schools.prairiesouth.ca
SUMMARY:Curling
DESCRIPTION:Curling
URL:https://schools.prairiesouth.ca/sites/westmount/event/curling-5/
END:VEVENT
BEGIN:VEVENT
DTSTART;TZID=America/Regina:20250129T151500
DTEND;TZID=America/Regina:20250129T180000
DTSTAMP:20260420T222925
CREATED:20250127T042528Z
LAST-MODIFIED:20250127T042528Z
UID:1942-1738163700-1738173600@schools.prairiesouth.ca
SUMMARY:Harmony Arts Play Practice
DESCRIPTION:Harmony Arts Play Practice- 3:15pm-6:00pm
URL:https://schools.prairiesouth.ca/sites/westmount/event/harmony-arts-play-practice-2/
END:VEVENT
END:VCALENDAR