BEGIN:VCALENDAR
VERSION:2.0
PRODID:-//Westmount Elementary School - ECPv6.15.20//NONSGML v1.0//EN
CALSCALE:GREGORIAN
METHOD:PUBLISH
X-ORIGINAL-URL:https://schools.prairiesouth.ca/sites/westmount
X-WR-CALDESC:Events for Westmount Elementary School
REFRESH-INTERVAL;VALUE=DURATION:PT1H
X-Robots-Tag:noindex
X-PUBLISHED-TTL:PT1H
BEGIN:VTIMEZONE
TZID:America/Regina
BEGIN:STANDARD
TZOFFSETFROM:-0600
TZOFFSETTO:-0600
TZNAME:CST
DTSTART:20230101T000000
END:STANDARD
END:VTIMEZONE
BEGIN:VEVENT
DTSTART;TZID=America/Regina:20250124T151500
DTEND;TZID=America/Regina:20250124T180000
DTSTAMP:20260421T033308
CREATED:20250120T035744Z
LAST-MODIFIED:20250120T035744Z
UID:1926-1737731700-1737741600@schools.prairiesouth.ca
SUMMARY:Harmony Arts Practice
DESCRIPTION:Harmony Arts Practice- Learning Commons
URL:https://schools.prairiesouth.ca/sites/westmount/event/harmony-arts-practice-3/
END:VEVENT
BEGIN:VEVENT
DTSTART;VALUE=DATE:20250124
DTEND;VALUE=DATE:20250125
DTSTAMP:20260421T033308
CREATED:20250120T035831Z
LAST-MODIFIED:20250120T035831Z
UID:1928-1737676800-1737763199@schools.prairiesouth.ca
SUMMARY:Spirit Day
DESCRIPTION:Spirit Day- Wear your Westmount Gear!
URL:https://schools.prairiesouth.ca/sites/westmount/event/spirit-day/
END:VEVENT
BEGIN:VEVENT
DTSTART;TZID=America/Regina:20250123T160000
DTEND;TZID=America/Regina:20250123T170000
DTSTAMP:20260421T033308
CREATED:20250120T035633Z
LAST-MODIFIED:20250120T035633Z
UID:1924-1737648000-1737651600@schools.prairiesouth.ca
SUMMARY:Girls "A" Basketball
DESCRIPTION:Girls “A” Basketball- Caronport @ Westmount
URL:https://schools.prairiesouth.ca/sites/westmount/event/girls-a-basketball/
END:VEVENT
BEGIN:VEVENT
DTSTART;TZID=America/Regina:20250122T151500
DTEND;TZID=America/Regina:20250122T180000
DTSTAMP:20260421T033308
CREATED:20250120T035524Z
LAST-MODIFIED:20250120T035524Z
UID:1922-1737558900-1737568800@schools.prairiesouth.ca
SUMMARY:Harmony Arts Practice
DESCRIPTION:Harmony Arts Practice-Learning Commons
URL:https://schools.prairiesouth.ca/sites/westmount/event/harmony-arts-practice-2/
END:VEVENT
BEGIN:VEVENT
DTSTART;TZID=America/Regina:20250121T160000
DTEND;TZID=America/Regina:20250121T170000
DTSTAMP:20260421T033308
CREATED:20250120T035344Z
LAST-MODIFIED:20250120T035344Z
UID:1920-1737475200-1737478800@schools.prairiesouth.ca
SUMMARY:Boys "A" Basketball
DESCRIPTION:Boys “A” Basketball- Caronport @ Westmount
URL:https://schools.prairiesouth.ca/sites/westmount/event/boys-a-basketball/
END:VEVENT
BEGIN:VEVENT
DTSTART;TZID=America/Regina:20250116T153000
DTEND;TZID=America/Regina:20250116T173000
DTSTAMP:20260421T033308
CREATED:20250113T041637Z
LAST-MODIFIED:20250113T041637Z
UID:1909-1737041400-1737048600@schools.prairiesouth.ca
SUMMARY:Boys "A" Basketball Game
DESCRIPTION:Boys “A” Basketball Game-Palliser @ Westmount
URL:https://schools.prairiesouth.ca/sites/westmount/event/boys-a-basketball-game-2/
END:VEVENT
BEGIN:VEVENT
DTSTART;TZID=America/Regina:20250115T160000
DTEND;TZID=America/Regina:20250115T170000
DTSTAMP:20260421T033308
CREATED:20250113T041512Z
LAST-MODIFIED:20250113T041512Z
UID:1907-1736956800-1736960400@schools.prairiesouth.ca
SUMMARY:Curling
DESCRIPTION:Curling-Moose Jaw Curling Center
URL:https://schools.prairiesouth.ca/sites/westmount/event/curling-3/
END:VEVENT
BEGIN:VEVENT
DTSTART;TZID=America/Regina:20250114T154500
DTEND;TZID=America/Regina:20250114T173000
DTSTAMP:20260421T033308
CREATED:20250113T041318Z
LAST-MODIFIED:20250113T041318Z
UID:1905-1736869500-1736875800@schools.prairiesouth.ca
SUMMARY:Boys "A" Basketball Game
DESCRIPTION:Boys “A” Basketball Game- Westmount @ Lindale
URL:https://schools.prairiesouth.ca/sites/westmount/event/boys-a-basketball-game/
END:VEVENT
BEGIN:VEVENT
DTSTART;TZID=America/Regina:20250114T153000
DTEND;TZID=America/Regina:20250114T173000
DTSTAMP:20260421T033308
CREATED:20250113T041207Z
LAST-MODIFIED:20250113T041359Z
UID:1903-1736868600-1736875800@schools.prairiesouth.ca
SUMMARY:Girls "A" Basketball Game
DESCRIPTION:Girls “A” Basketball Game- Sunningdale @ Westmount
URL:https://schools.prairiesouth.ca/sites/westmount/event/girls-a-basketball-game-2/
END:VEVENT
BEGIN:VEVENT
DTSTART;TZID=America/Regina:20250113T151500
DTEND;TZID=America/Regina:20250113T173000
DTSTAMP:20260421T033308
CREATED:20250113T041049Z
LAST-MODIFIED:20250113T041049Z
UID:1901-1736781300-1736789400@schools.prairiesouth.ca
SUMMARY:Harmony Arts Practice
DESCRIPTION:Harmony Arts Practice-Learning Commons
URL:https://schools.prairiesouth.ca/sites/westmount/event/harmony-arts-practice/
END:VEVENT
BEGIN:VEVENT
DTSTART;VALUE=DATE:20250110
DTEND;VALUE=DATE:20250111
DTSTAMP:20260421T033308
CREATED:20250106T042451Z
LAST-MODIFIED:20250106T042451Z
UID:1895-1736467200-1736553599@schools.prairiesouth.ca
SUMMARY:Westmount Spirit Day
DESCRIPTION:Westmount Spirit Day-Wear Your Jets Gear
URL:https://schools.prairiesouth.ca/sites/westmount/event/westmount-spirit-day/
END:VEVENT
BEGIN:VEVENT
DTSTART;TZID=America/Regina:20250109T160000
DTEND;TZID=America/Regina:20250109T173000
DTSTAMP:20260421T033308
CREATED:20250106T041201Z
LAST-MODIFIED:20250106T041201Z
UID:1889-1736438400-1736443800@schools.prairiesouth.ca
SUMMARY:Girls "A" Basketball Game
DESCRIPTION:Girls “A” Basketball Game- Lindale @ Westmount
URL:https://schools.prairiesouth.ca/sites/westmount/event/girls-a-basketball-game/
END:VEVENT
BEGIN:VEVENT
DTSTART;TZID=America/Regina:20250107T115500
DTEND;TZID=America/Regina:20250107T124000
DTSTAMP:20260421T033308
CREATED:20250106T041807Z
LAST-MODIFIED:20250106T041807Z
UID:1893-1736250900-1736253600@schools.prairiesouth.ca
SUMMARY:Harmony Arts Production
DESCRIPTION:Harmony Arts Production Auditions \n 
URL:https://schools.prairiesouth.ca/sites/westmount/event/harmony-arts-production-2/
END:VEVENT
BEGIN:VEVENT
DTSTART;TZID=America/Regina:20250106T160000
DTEND;TZID=America/Regina:20250106T170000
DTSTAMP:20260421T033308
CREATED:20250106T040951Z
LAST-MODIFIED:20250106T040951Z
UID:1887-1736179200-1736182800@schools.prairiesouth.ca
SUMMARY:Curling
DESCRIPTION:Curling
URL:https://schools.prairiesouth.ca/sites/westmount/event/curling-2/
END:VEVENT
BEGIN:VEVENT
DTSTART;TZID=America/Regina:20250106T115500
DTEND;TZID=America/Regina:20250106T124000
DTSTAMP:20260421T033308
CREATED:20250106T041708Z
LAST-MODIFIED:20250106T041708Z
UID:1891-1736164500-1736167200@schools.prairiesouth.ca
SUMMARY:Harmony Arts Production
DESCRIPTION:Harmony Arts Production- Auditions
URL:https://schools.prairiesouth.ca/sites/westmount/event/harmony-arts-production/
END:VEVENT
BEGIN:VEVENT
DTSTART;VALUE=DATE:20250106
DTEND;VALUE=DATE:20250107
DTSTAMP:20260421T033308
CREATED:20250106T042524Z
LAST-MODIFIED:20250106T042524Z
UID:1897-1736121600-1736207999@schools.prairiesouth.ca
SUMMARY:Welcome Back
DESCRIPTION:Welcome Back-First Day of Classes
URL:https://schools.prairiesouth.ca/sites/westmount/event/welcome-back/
END:VEVENT
BEGIN:VEVENT
DTSTART;TZID=America/Regina:20241220T090000
DTEND;TZID=America/Regina:20241220T153000
DTSTAMP:20260421T033308
CREATED:20241220T014222Z
LAST-MODIFIED:20241220T014222Z
UID:1885-1734685200-1734708600@schools.prairiesouth.ca
SUMMARY:Last Day of School
DESCRIPTION:Last Day of School
URL:https://schools.prairiesouth.ca/sites/westmount/event/last-day-of-school/
END:VEVENT
BEGIN:VEVENT
DTSTART;TZID=America/Regina:20241220T090000
DTEND;TZID=America/Regina:20241220T153000
DTSTAMP:20260421T033308
CREATED:20241220T014035Z
LAST-MODIFIED:20241220T014035Z
UID:1883-1734685200-1734708600@schools.prairiesouth.ca
SUMMARY:School Spirit Days
DESCRIPTION:School Spirit Days- Wear you comfiest Christmas PJs
URL:https://schools.prairiesouth.ca/sites/westmount/event/school-spirit-days-3/
END:VEVENT
BEGIN:VEVENT
DTSTART;TZID=America/Regina:20241219T090000
DTEND;TZID=America/Regina:20241219T153000
DTSTAMP:20260421T033308
CREATED:20241217T021013Z
LAST-MODIFIED:20241217T021634Z
UID:1877-1734598800-1734622200@schools.prairiesouth.ca
SUMMARY:School Spirit Days
DESCRIPTION:Thursday- Wear Christmas gear (hats\, antlers).
URL:https://schools.prairiesouth.ca/sites/westmount/event/school-spirit-week-2/
END:VEVENT
BEGIN:VEVENT
DTSTART;TZID=America/Regina:20241218T090000
DTEND;TZID=America/Regina:20241218T153000
DTSTAMP:20260421T033308
CREATED:20241217T015406Z
LAST-MODIFIED:20241217T021612Z
UID:1873-1734512400-1734535800@schools.prairiesouth.ca
SUMMARY:School Spirit Days
DESCRIPTION:Wednesday- Wear an ugly or or nice Christmas sweater.
URL:https://schools.prairiesouth.ca/sites/westmount/event/school-spirit-week/
END:VEVENT
BEGIN:VEVENT
DTSTART;TZID=America/Regina:20241218T063000
DTEND;TZID=America/Regina:20241218T190000
DTSTAMP:20260421T033308
CREATED:20241217T020706Z
LAST-MODIFIED:20241217T020706Z
UID:1875-1734503400-1734548400@schools.prairiesouth.ca
SUMMARY:Christmas Music Concert Grades 6-8
DESCRIPTION:Christmas Music Concert-Grades 6-8
URL:https://schools.prairiesouth.ca/sites/westmount/event/christmas-music-concert-grades-6-8/
END:VEVENT
BEGIN:VEVENT
DTSTART;TZID=America/Regina:20241217T173000
DTEND;TZID=America/Regina:20241217T190000
DTSTAMP:20260421T033308
CREATED:20241217T015055Z
LAST-MODIFIED:20241217T020842Z
UID:1867-1734456600-1734462000@schools.prairiesouth.ca
SUMMARY:Christmas Concert
DESCRIPTION:Christmas Concert-Doors open at 5:30pm
URL:https://schools.prairiesouth.ca/sites/westmount/event/christmas-concert/
END:VEVENT
BEGIN:VEVENT
DTSTART;TZID=America/Regina:20241217T130000
DTEND;TZID=America/Regina:20241217T143000
DTSTAMP:20260421T033308
CREATED:20241217T014943Z
LAST-MODIFIED:20241217T014943Z
UID:1865-1734440400-1734445800@schools.prairiesouth.ca
SUMMARY:Christmas Concert Dress Rehearsal
DESCRIPTION:Christmas Concert Dress Rehearsal
URL:https://schools.prairiesouth.ca/sites/westmount/event/christmas-concert-dress-rehearsal/
END:VEVENT
BEGIN:VEVENT
DTSTART;TZID=America/Regina:20241217T090000
DTEND;TZID=America/Regina:20241217T153000
DTSTAMP:20260421T033308
CREATED:20241217T015252Z
LAST-MODIFIED:20241217T015252Z
UID:1871-1734426000-1734449400@schools.prairiesouth.ca
SUMMARY:School Spirit Days
DESCRIPTION:Tuesday- Dress as your favorite Christmas Character.
URL:https://schools.prairiesouth.ca/sites/westmount/event/school-spirit-days-2/
END:VEVENT
BEGIN:VEVENT
DTSTART;TZID=America/Regina:20241216T090000
DTEND;TZID=America/Regina:20241216T153000
DTSTAMP:20260421T033308
CREATED:20241217T015157Z
LAST-MODIFIED:20241217T015157Z
UID:1869-1734339600-1734363000@schools.prairiesouth.ca
SUMMARY:School Spirit Days
DESCRIPTION:Monday- Wear red and green clothing or holiday gear.
URL:https://schools.prairiesouth.ca/sites/westmount/event/school-spirit-days/
END:VEVENT
BEGIN:VEVENT
DTSTART;TZID=America/Regina:20241211T090000
DTEND;TZID=America/Regina:20241211T153000
DTSTAMP:20260421T033308
CREATED:20241210T041040Z
LAST-MODIFIED:20241210T041040Z
UID:1861-1733907600-1733931000@schools.prairiesouth.ca
SUMMARY:SCC Christmas Store
DESCRIPTION:SCC Christmas Store
URL:https://schools.prairiesouth.ca/sites/westmount/event/scc-christmas-store-2/
END:VEVENT
BEGIN:VEVENT
DTSTART;TZID=America/Regina:20241210T090000
DTEND;TZID=America/Regina:20241210T153000
DTSTAMP:20260421T033308
CREATED:20241210T040953Z
LAST-MODIFIED:20241210T040953Z
UID:1859-1733821200-1733844600@schools.prairiesouth.ca
SUMMARY:SCC Christmas Store
DESCRIPTION:SCC Christmas Store
URL:https://schools.prairiesouth.ca/sites/westmount/event/scc-christmas-store/
END:VEVENT
BEGIN:VEVENT
DTSTART;TZID=America/Regina:20241206T130000
DTEND;TZID=America/Regina:20241206T140000
DTSTAMP:20260421T033308
CREATED:20241202T032212Z
LAST-MODIFIED:20241202T032212Z
UID:1848-1733490000-1733493600@schools.prairiesouth.ca
SUMMARY:Pow Wow Dancers
DESCRIPTION:Pow Wow Dancers assembly 1-2pm
URL:https://schools.prairiesouth.ca/sites/westmount/event/pow-wow-dancers/
END:VEVENT
BEGIN:VEVENT
DTSTART;VALUE=DATE:20241129
DTEND;VALUE=DATE:20241130
DTSTAMP:20260421T033308
CREATED:20241124T204045Z
LAST-MODIFIED:20241124T204203Z
UID:1841-1732838400-1732924799@schools.prairiesouth.ca
SUMMARY:No School
DESCRIPTION:No School Today!
URL:https://schools.prairiesouth.ca/sites/westmount/event/no-school-3/
END:VEVENT
BEGIN:VEVENT
DTSTART;VALUE=DATE:20241128
DTEND;VALUE=DATE:20241129
DTSTAMP:20260421T033308
CREATED:20241124T204016Z
LAST-MODIFIED:20241124T204016Z
UID:1839-1732752000-1732838399@schools.prairiesouth.ca
SUMMARY:Education Week
DESCRIPTION:Future Professional-Dress up to represent your dream job!
URL:https://schools.prairiesouth.ca/sites/westmount/event/education-week-3/
END:VEVENT
END:VCALENDAR